BEGIN:VCALENDAR
VERSION:2.0
PRODID:-//Actu.Art - ECPv6.15.13//NONSGML v1.0//EN
CALSCALE:GREGORIAN
METHOD:PUBLISH
X-WR-CALNAME:Actu.Art
X-ORIGINAL-URL:https://actu.art
X-WR-CALDESC:Évènements pour Actu.Art
BEGIN:VTIMEZONE
TZID:Europe/Paris
BEGIN:DAYLIGHT
TZOFFSETFROM:+0100
TZOFFSETTO:+0200
TZNAME:CEST
DTSTART:20240331T010000
END:DAYLIGHT
BEGIN:STANDARD
TZOFFSETFROM:+0200
TZOFFSETTO:+0100
TZNAME:CET
DTSTART:20241027T010000
END:STANDARD
BEGIN:DAYLIGHT
TZOFFSETFROM:+0100
TZOFFSETTO:+0200
TZNAME:CEST
DTSTART:20250330T010000
END:DAYLIGHT
BEGIN:STANDARD
TZOFFSETFROM:+0200
TZOFFSETTO:+0100
TZNAME:CET
DTSTART:20251026T010000
END:STANDARD
BEGIN:DAYLIGHT
TZOFFSETFROM:+0100
TZOFFSETTO:+0200
TZNAME:CEST
DTSTART:20260329T010000
END:DAYLIGHT
BEGIN:STANDARD
TZOFFSETFROM:+0200
TZOFFSETTO:+0100
TZNAME:CET
DTSTART:20261025T010000
END:STANDARD
END:VTIMEZONE
BEGIN:VEVENT
DTSTART;VALUE=DATE:20250607
DTEND;VALUE=DATE:20250608
DTSTAMP:20260426T060616
CREATED:20250613T131432Z
LAST-MODIFIED:20250613T131432Z
UID:10009310-1749254400-1749340799@actu.art
SUMMARY:Ventes aux enchères la cour des Arts X Hôtel de Lagoy
DESCRIPTION:Participez à la vente aux enchères organisée par La Cour des Arts de Saint-Rémy-de-Provence X Hôtel de Lagoy\, le samedi 7 juin.\nVous aurez le plaisir de découvrir des peintures\, des dessins ainsi que des gravures dans un cadre unique au cœur de Saint-Rémy-de-Provence. Les œuvres d’artistes seront exposées par La Cour des Arts.
URL:https://actu.art/event/ventes-aux-encheres-la-cour-des-arts-x-hotel-de-lagoy/
LOCATION:Espace Hôtel de Lagoy\, Boulevard Marceau 11\, Saint-Rémy-de-Provence\, Bouches-du-Rhône\, 13210\, France
CATEGORIES:Ventes aux Enchères
ATTACH;FMTTYPE=image/jpeg:https://actu.art/wp-content/uploads/2025/06/Ventes_aux_encheres_la_cour_des_Arts_X_Hotel_de_Lagoy.jpg
GEO:43.7893249;4.8303856
X-APPLE-STRUCTURED-LOCATION;VALUE=URI;X-ADDRESS=Espace Hôtel de Lagoy Boulevard Marceau 11 Saint-Rémy-de-Provence Bouches-du-Rhône 13210 France;X-APPLE-RADIUS=500;X-TITLE=Boulevard Marceau 11:geo:4.8303856,43.7893249
END:VEVENT
END:VCALENDAR