BEGIN:VCALENDAR
VERSION:2.0
PRODID:-//Actu.Art - ECPv6.15.13//NONSGML v1.0//EN
CALSCALE:GREGORIAN
METHOD:PUBLISH
X-WR-CALNAME:Actu.Art
X-ORIGINAL-URL:https://actu.art
X-WR-CALDESC:Évènements pour Actu.Art
BEGIN:VTIMEZONE
TZID:Europe/Paris
BEGIN:DAYLIGHT
TZOFFSETFROM:+0100
TZOFFSETTO:+0200
TZNAME:CEST
DTSTART:20240331T010000
END:DAYLIGHT
BEGIN:STANDARD
TZOFFSETFROM:+0200
TZOFFSETTO:+0100
TZNAME:CET
DTSTART:20241027T010000
END:STANDARD
BEGIN:DAYLIGHT
TZOFFSETFROM:+0100
TZOFFSETTO:+0200
TZNAME:CEST
DTSTART:20250330T010000
END:DAYLIGHT
BEGIN:STANDARD
TZOFFSETFROM:+0200
TZOFFSETTO:+0100
TZNAME:CET
DTSTART:20251026T010000
END:STANDARD
BEGIN:DAYLIGHT
TZOFFSETFROM:+0100
TZOFFSETTO:+0200
TZNAME:CEST
DTSTART:20260329T010000
END:DAYLIGHT
BEGIN:STANDARD
TZOFFSETFROM:+0200
TZOFFSETTO:+0100
TZNAME:CET
DTSTART:20261025T010000
END:STANDARD
BEGIN:DAYLIGHT
TZOFFSETFROM:+0100
TZOFFSETTO:+0200
TZNAME:CEST
DTSTART:20270328T010000
END:DAYLIGHT
BEGIN:STANDARD
TZOFFSETFROM:+0200
TZOFFSETTO:+0100
TZNAME:CET
DTSTART:20271031T010000
END:STANDARD
BEGIN:DAYLIGHT
TZOFFSETFROM:+0100
TZOFFSETTO:+0200
TZNAME:CEST
DTSTART:20280326T010000
END:DAYLIGHT
BEGIN:STANDARD
TZOFFSETFROM:+0200
TZOFFSETTO:+0100
TZNAME:CET
DTSTART:20281029T010000
END:STANDARD
BEGIN:DAYLIGHT
TZOFFSETFROM:+0100
TZOFFSETTO:+0200
TZNAME:CEST
DTSTART:20290325T010000
END:DAYLIGHT
BEGIN:STANDARD
TZOFFSETFROM:+0200
TZOFFSETTO:+0100
TZNAME:CET
DTSTART:20291028T010000
END:STANDARD
END:VTIMEZONE
BEGIN:VEVENT
DTSTART;TZID=Europe/Paris:20260411T100000
DTEND;TZID=Europe/Paris:20270307T180000
DTSTAMP:20260419T175713
CREATED:20260410T101144Z
LAST-MODIFIED:20260410T101144Z
UID:10036910-1775901600-1804442400@actu.art
SUMMARY:Adrien Fregosi : Les Moyens du bord
DESCRIPTION:À partir d’avril 2026\, le MIAM\, Musée International des Arts Modestes (Sète) présente une exposition monographique de l’artiste Adrien Fregosi (1980-2024) qui a travaillé les dix dernières années de sa vie à Sète et y a développé une œuvre prolifique et hautement poétique\, à la fois fragile et puissante\, douce et grave.
URL:https://actu.art/event/adrien-fregosi-les-moyens-du-bord/
LOCATION:Musée International des Arts Modestes\, 23 quai du Maréchal-de-Lattre-de-Tassigny\, Sète\, Hérault\, 34200\, France
CATEGORIES:Expositions Temporaires
ATTACH;FMTTYPE=image/jpeg:https://actu.art/wp-content/uploads/2026/04/Adrien_Fregosi_Les_Moyens_du_bord.jpg
GEO:43.406067;3.6961022
X-APPLE-STRUCTURED-LOCATION;VALUE=URI;X-ADDRESS=Musée International des Arts Modestes 23 quai du Maréchal-de-Lattre-de-Tassigny Sète Hérault 34200 France;X-APPLE-RADIUS=500;X-TITLE=23 quai du Maréchal-de-Lattre-de-Tassigny:geo:3.6961022,43.406067
END:VEVENT
BEGIN:VEVENT
DTSTART;TZID=Europe/Paris:20260404T140000
DTEND;TZID=Europe/Paris:20270331T190000
DTSTAMP:20260419T175713
CREATED:20260320T175759Z
LAST-MODIFIED:20260320T175759Z
UID:10034851-1775311200-1806519600@actu.art
SUMMARY:Exposition Entre les Mondes au Musée GRATALOUP à Chevreuse (Yvelines) – GRATALOUP & Antoine POUPEL
DESCRIPTION:À partir du 4 avril 2026\, le Musée GRATALOUP à Chevreuse (Yvelines) présente « Entre les Mondes »\, une exposition d’art contemporain immersive réunissant les œuvres du peintre GRATALOUP et du photographe Antoine POUPEL. \nSitué au cœur de la Vallée de Chevreuse\, le musée propose un parcours original entre la chapelle du Prieuré Saint-Saturnin et le jardin extérieur\, offrant une expérience artistique à la fois visuelle et sensorielle. \nDans la chapelle\, les peintures de GRATALOUP explorent les relations entre lumière\, matière et espace\, dans une approche symboliste et contemporaine.\nDans le jardin\, les photographies d’Antoine POUPEL — connu pour ses collaborations avec Bartabas (théâtre équestre Zingaro) et le Crazy Horse — interrogent le corps\, le mouvement et le vivant. \nL’exposition s’inscrit dans une démarche immersive\, avec des podcasts narratifs et un dispositif son et lumière permettant d’accompagner le regard du visiteur. \nAccessible à tous les publics\, « Entre les Mondes » propose une approche sensible de l’art contemporain et invite à réfléchir à notre relation au monde et à l’environnement. \nMusée GRATALOUP – 3 rue de l’église – Chevreuse (Yvelines)\nÀ partir du 4 avril 2026
URL:https://actu.art/event/exposition-entre-les-mondes-au-musee-grataloup-a-chevreuse-yvelines-grataloup-antoine-poupel/
LOCATION:Musée Grataloup\, 3 rue de l'église\, Chevreuse\, Yvelines\, 78460\, France
CATEGORIES:Expositions
ATTACH;FMTTYPE=image/jpeg:https://actu.art/wp-content/uploads/2026/03/visuel-avec-logo.jpg
ORGANIZER;CN="LES AMIS DU MUSEE GRATALOUP":MAILTO:amis@museegrataloup.fr
GEO:48.7080701;2.0396805
X-APPLE-STRUCTURED-LOCATION;VALUE=URI;X-ADDRESS=Musée Grataloup 3 rue de l'église Chevreuse Yvelines 78460 France;X-APPLE-RADIUS=500;X-TITLE=3 rue de l'église:geo:2.0396805,48.7080701
END:VEVENT
BEGIN:VEVENT
DTSTART;TZID=Europe/Paris:20260404T140000
DTEND;TZID=Europe/Paris:20271031T180000
DTSTAMP:20260419T175713
CREATED:20260324T212141Z
LAST-MODIFIED:20260324T212141Z
UID:10034860-1775311200-1825005600@actu.art
SUMMARY:Exposition Les frères Voirin\, quand la pensée devient tableau
DESCRIPTION:Pour sa nouvelle exposition temporaire\, Le Musée de la Céramique et de l’Ivoire de la ville de Commercy\, a le plaisir de vous\nprésenter les œuvres des frères Voirin. \nJules et Léon Voirin sont frères jumeaux et artistes-peintres. Surnommés les « frères Goncourt de la peinture de genre nancéienne »\, inséparables comme ces deux écrivains illustres\, leurs contemporains n’utilisent bientôt plus que l’expression les frères Voirin pour les désigner tant l’un et l’autre semblent indissociables. \nTémoins privilégiés des évolutions que connaissent la ville de Nancy et les milieux artistiques nancéiens\, les frères Voirin sont le lien entre deux époques. Ils modernisent au XIXe siècle la peinture de genre\, thème artistique qui consiste à représenter des scènes du quotidien\, familières et populaires. \nGenre de prédilection de leur maître Eugène-Charles Guérard\, ce type de peinture apparaissait comme désuet\, mineur\, avant\nque les deux frères s’en emparent pleinement après la mort de leur maître en 1866. La révolution des frères Voirin ? Ajouter le réalisme de leur quotidien\, tiré de leurs observations de la vie nancéienne. \nMais leur peinture n’est pas la représentation fidèle de la réalité. Elle est une construction\, une pensée qui devient tableau\, classant les frères Voirin entre réalisme et impressionnisme. Cette exposition entend présenter leur démarche.
URL:https://actu.art/event/exposition-les-freres-voirin-quand-la-pensee-devient-tableau/
LOCATION:Musée de la Céramique et de l’Ivoire\, 7 Avenue Carcano\, Commercy\, Meuse\, 55200
CATEGORIES:Expositions
ATTACH;FMTTYPE=image/jpeg:https://actu.art/wp-content/uploads/2026/03/Exposition_Les_freres_Voirin_quand_la_pensee_devient_tableau.jpg
END:VEVENT
BEGIN:VEVENT
DTSTART;TZID=Europe/Paris:20260403T103000
DTEND;TZID=Europe/Paris:20270207T183000
DTSTAMP:20260419T175713
CREATED:20260402T223043Z
LAST-MODIFIED:20260402T223043Z
UID:10036418-1775212200-1802025000@actu.art
SUMMARY:Au Mali\, quand les animaux dansent. Donation Sonia et Albert Loeb
DESCRIPTION:Au Mali\, sur les rives du fleuve Niger\, se déroulent des fêtes ancestrales nommées sogow bò\, littéralement « les animaux sortent ». Sur une place de village ou sur le fleuve\, de jour comme de nuit\, ces spectacles mêlent théâtre\, danse\, musique et chant. Des masques « animaux » et des marionnettes s’animent aux rythmes des tambours\, illustrant mythes et légendes\, vie sociale et quotidienne. \nÀ travers plus de cent objets et de nombreux audiovisuels\, l’exposition donne à voir et ressentir ce théâtre participatif\, dans lequel chacun des membres de la communauté a sa place\, des aînés aux plus jeunes enfants. \nLe sogo bò\, inscrit aujourd’hui au patrimoine mondial de l’Unesco\, est un héritage aussi vivant que fragile dans le contexte de tensions que connaît le Mali.
URL:https://actu.art/event/au-mali-quand-les-animaux-dansent-donation-sonia-et-albert-loeb/
LOCATION:Musée des Confluences\, 86 Quai Perrache\, Lyon\, Rhône\, 69002\, France
CATEGORIES:Expositions Temporaires
ATTACH;FMTTYPE=image/jpeg:https://actu.art/wp-content/uploads/2026/04/Au_Mali_quand_les_animaux_dansent_Donation_Sonia_et_Albert_Loeb.jpg
GEO:45.7337751;4.8187942
X-APPLE-STRUCTURED-LOCATION;VALUE=URI;X-ADDRESS=Musée des Confluences 86 Quai Perrache Lyon Rhône 69002 France;X-APPLE-RADIUS=500;X-TITLE=86 Quai Perrache:geo:4.8187942,45.7337751
END:VEVENT
BEGIN:VEVENT
DTSTART;VALUE=DATE:20260203
DTEND;VALUE=DATE:20271220
DTSTAMP:20260419T175713
CREATED:20251107T221413Z
LAST-MODIFIED:20251107T221413Z
UID:10030794-1770076800-1829260799@actu.art
SUMMARY:Exposition : « L’envol de Valentine Prax\, l’intimité d’une vie de peintre »
DESCRIPTION:Le Département du Lot prépare une exposition dédiée à Valentine Prax (1897–1981)\, artiste peintre et épouse d’Ossip Zadkine\, au musée Zadkine en 2026-2027
URL:https://actu.art/event/exposition-lenvol-de-valentine-prax-lintimite-dune-vie-de-peintre/
LOCATION:Musée Ossip Zadkine\, Le bourg\, Les Arques\, Lot\, 46250
CATEGORIES:Expositions
ATTACH;FMTTYPE=image/jpeg:https://actu.art/wp-content/uploads/2025/10/Exposition_L_envol_de_Valentine_Prax_l_intimite_d_une_vie_de_peintre_.jpg
GEO:44.6021209;1.251592
X-APPLE-STRUCTURED-LOCATION;VALUE=URI;X-ADDRESS=Musée Ossip Zadkine Le bourg Les Arques Lot 46250;X-APPLE-RADIUS=500;X-TITLE=Le bourg:geo:1.251592,44.6021209
END:VEVENT
BEGIN:VEVENT
DTSTART;TZID=Europe/Paris:20250517T083000
DTEND;TZID=Europe/Paris:20280416T190000
DTSTAMP:20260419T175713
CREATED:20250515T224953Z
LAST-MODIFIED:20250515T224953Z
UID:10008738-1747470600-1839524400@actu.art
SUMMARY:Un monde nouveau. Révolutions artistiques et sociétales au 18e siècle
DESCRIPTION:Printemps 1965. C’est en cherchant un nouvel endroit pour exposer sa riche collection que l’historien d’art Gunnar W Lundberg déniche un hôtel particulier décrépi dans le quartier du Marais\, à Paris. L’homme convainc l’État suédois d’en faire l’acquisition : c’est le point de départ de l’Institut suédois\, dont l’exposition permanente présente une sélection des œuvres passionnément et minutieusement rassemblées par Gunnar W. Lundberg. 700 peintures\, 1400 dessins\, 4000 œuvres graphiques ainsi que des sculptures\, livres anciens\, médailles… \nDepuis mai 2025 : un nouvel accrochage thématique offre un éclairage inédit sur les grands mouvements du 18e siècle\, période la plus représentée dans la collection. Le Siècle des Lumières\, qui marque l’âge d’or des relations franco-suédoises\, est une période de grands progrès\, mais aussi de troubles. Cette dualité est explorée à travers le regard des artistes français et suédois\, qui ont su capturer un monde en mutation. Organisée en quatre sections\, l’exposition présente tour-à-tour les nouvelles conceptions de la figure de l’artiste\, de l’avenir\, du passé\, ainsi que le regard porté sur le Nord. \nLa figure de l’artiste\nAvec le développement des académies d’art et l’abolition progressive des corporations\, le 18e siècle voit émerger la figure moderne de l’artiste. Une nouvelle classe aristocratique et bourgeoise\, collectionnant l’art selon ses propres goûts\, contribue à cette évolution. Parallèlement\, l’ouverture du Salon en 1737 offre aux artistes une visibilité inédite. Cette période marque un âge d’or pour les artistes suédois à Paris. Gustaf Lundberg\, Alexander Roslin et Adolf Ulrik Wertmüller s’y imposent\, notamment dans l’art du portrait. Réciproquement\, des artistes français comme Guillaume Taraval\, Charles Guillaume Cousin et Jacques-Philippe Bouchardon laissent leur empreinte en Suède\, en particulier sur le château royal de Stockholm\, plus grand chantier du siècle. L’exposition explore la manière dont les artistes se représentent eux-mêmes dans ce contexte. Le portrait d’artiste oscille entre intimité et démonstration : autoportraits expérimentaux\, revendication d’un certain statut\, mise en scène du corps\, ces portraits montrent l’artiste à la fois modèle et acteur\, toujours avec un même point central : leur regard. \nLe risque et le sublime – L’avenir\nLe 18e siècle voit émerger de nouveaux phénomènes économiques et la première grande crise financière mondiale en 1720. La satire de Bernard Picart présentée dans l’exposition illustre la folie spéculative de l’époque. Face à cette instabilité\, le concept du sublime\, théorisé par Edmund Burke en 1757\, exprime la fascination et la terreur inspirées par les forces capables de détruire l’être humain. Les éruptions volcaniques deviennent un motif artistique majeur\, notamment celle du Vésuve en 1779\, popularisée par la peinture et la gravure. La Suède n’a pas de volcans\, mais elle a des mines. L’exploitation minière\, en particulier la grande mine de cuivre de Falun\, attire de nombreux visiteur.ses à la fin du siècle. Lorsque le révolutionnaire Francisco de Miranda la visite en 1780\, il l’assimile au cratère du Vésuve. De la terre au ciel : l’invention de la montgolfière incarne le rêve d’élévation de l’être humain. Dans l’exposition\, progrès et catastrophe s’entrelacent : mines\, volcans et montgolfières sont réuni.es par une même flamme\, un feu à la fois créateur et destructeur. Prométhée et Icare en sont les figures emblématiques.\nL’Antiquité dévoilée – Le passé\nDans les années 1760\, une véritable anticomanie s’empare de Paris : les idéaux de l’Antiquité inspirent l’art\, l’architecture et la mode. Rome redevient un centre artistique incontournable\, attirant peintres\, architectes et sculpteurs. Pour les artistes suédois comme Jean Eric Rehn\, le passage par l’Italie\, souvent via Paris\, s’impose naturellement. Ainsi se dessine un axe fort entre Stockholm\, Paris et Rome au 18e siècle. L’architecte et peintre français Louis-Jean Desprez\, formé à l’Académie de Rome\, entreprend le voyage en sens inverse lorsqu’il est engagé par le roi Gustave III de Suède. Naples quant à elle\, avec les fouilles de Pompéi et d’Herculanum\, suscite une réflexion sur la préservation du patrimoine culturel. La prise de conscience d’un monde disparu est posée par Johann Joachim Winckelmann en 1764 dans Histoire de l’art chez les Anciens\, ouvrage fondateur de l’histoire de l’art moderne. Cette section de l’exposition illustre les différentes approches de l’Antiquité : certains voient dans ses monuments un modèle intemporel à imiter\, d’autres s’en inspirent librement pour nourrir de nouvelles créations. L’attrait pour les ruines reflète autant la fascination pour le passé que l’inquiétude face à l’avenir. Si le sublime traduit la puissance de la nature\, la ruine en est l’écho\, rappelant l’inéluctable déclin des civilisations. \nL’autre et le Nord\nSi artistes\, amateurs et voyageurs se tournent vers le Sud à la recherche des origines de la civilisation\, d’autres prennent la direction opposée : vers les confins du monde connu. Cette section de l’exposition met en lumière la fascination française pour le Nord\, et plus particulièrement pour la Laponie\, perçue comme l’exact contrepoint de l’Europe civilisée. Au 18e siècle\, plusieurs expéditions françaises sont menées dans le nord de la Suède\, la plus célèbre étant celle de Pierre Louis de Maupertuis en 1736. Les Sames\, seul peuple autochtone de Suède et d’Europe\, deviennent des figures du « noble sauvage » qui fascinent les salons parisiens. Les regards français et suédois divergent : la Suède voit en la Laponie un territoire à exploiter\, tandis que la France la fantasme comme un territoire primitif\, hors du temps et de la culture.
URL:https://actu.art/event/un-monde-nouveau-revolutions-artistiques-et-societales-au-18e-siecle/
LOCATION:Institut Suédois\, 11 rue Payenne\, Paris 03\, Paris\, 75003\, France
CATEGORIES:Expositions
ATTACH;FMTTYPE=image/jpeg:https://actu.art/wp-content/uploads/2025/05/Un_monde_nouveau_Revolutions_artistiques_et_societales_au_18e_siecle.jpg
GEO:48.8577261;2.3618656
X-APPLE-STRUCTURED-LOCATION;VALUE=URI;X-ADDRESS=Institut Suédois 11 rue Payenne Paris 03 Paris 75003 France;X-APPLE-RADIUS=500;X-TITLE=11 rue Payenne:geo:2.3618656,48.8577261
END:VEVENT
BEGIN:VEVENT
DTSTART;VALUE=DATE:20250508
DTEND;VALUE=DATE:20270203
DTSTAMP:20260419T175713
CREATED:20250530T215035Z
LAST-MODIFIED:20250530T215035Z
UID:10007934-1746662400-1801612799@actu.art
SUMMARY:Dimanche sans fin : Maurizio Cattelan et la Collection du Centre-Pompidou
DESCRIPTION:Depuis son ouverture\, le Centre Pompidou-Metz a eu le privilège de présenter de nombreuses œuvres de la collection du Centre Pompidou. Pour célébrer ce riche partenariat\, cette exposition montre des œuvres rarement exposées et des pièces dont on ne soupçonne pas la présence dans la collection\, en mettant à l’honneur les mouvements de l’histoire de l’art dans leur pluralité. Y sont présentés en majesté l’extraordinaire mur de l’atelier d’André Breton ainsi que la table de jeu d’échecs de Marcel Duchamp\, qui a récemment rejoint la collection du Centre Pompidou. \nL’exposition aborde la notion de dimanche\, un sujet plurivoque qui a suscité chez le collectif de commissaires – réunis autour de l’artiste Maurizio Cattelan – de multiples associations\, ce thème soulevant des questions sociales\, politiques et esthétiques qui traversent notre société aujourd’hui.
URL:https://actu.art/event/dimanche-sans-fin-maurizio-cattelan-et-la-collection-du-centre-pompidou/
LOCATION:Centre Pompidou-Metz\, Grande nef\, 1 Parvis des Droits de l'Homme\, Metz\, Moselle\, 57000\, France
CATEGORIES:Expositions
ATTACH;FMTTYPE=image/jpeg:https://actu.art/wp-content/uploads/2025/05/Dimanche_sans_fin_Maurizio_Cattelan_et_la_Collection_du_Centre_Pompidou.jpg
GEO:49.1082524;6.1816927
X-APPLE-STRUCTURED-LOCATION;VALUE=URI;X-ADDRESS=Centre Pompidou-Metz Grande nef 1 Parvis des Droits de l'Homme Metz Moselle 57000 France;X-APPLE-RADIUS=500;X-TITLE=1 Parvis des Droits de l'Homme:geo:6.1816927,49.1082524
END:VEVENT
BEGIN:VEVENT
DTSTART;VALUE=DATE:20260523
DTEND;VALUE=DATE:20270201
DTSTAMP:20260419T175713
CREATED:20260320T135337Z
LAST-MODIFIED:20260320T135337Z
UID:10034580-1779494400-1801439999@actu.art
SUMMARY:SMITH\, Ici grand ouvert
DESCRIPTION:Réunissant œuvres historiques et productions récentes\, l’exposition met en lumière la pratique transdisciplinaire de l’artiste SMITH\, à la croisée de la photographie\, de l’installation\, de la performance et de l’image animée.
URL:https://actu.art/event/smith-ici-grand-ouvert/
LOCATION:Musée d’Art Contemporain du Val-de-Marne\, Place de la Libération\, VITRY-SUR-SEINE\, Val-de-Marne\, 94400
CATEGORIES:Expositions
ATTACH;FMTTYPE=image/jpeg:https://actu.art/wp-content/uploads/2026/03/SMITH_Ici_grand_ouvert.jpg
GEO:48.7920694;2.3871374
X-APPLE-STRUCTURED-LOCATION;VALUE=URI;X-ADDRESS=Musée d’Art Contemporain du Val-de-Marne Place de la Libération VITRY-SUR-SEINE Val-de-Marne 94400;X-APPLE-RADIUS=500;X-TITLE=Place de la Libération:geo:2.3871374,48.7920694
END:VEVENT
BEGIN:VEVENT
DTSTART;VALUE=DATE:20260930
DTEND;VALUE=DATE:20270126
DTSTAMP:20260419T175713
CREATED:20260416T062507Z
LAST-MODIFIED:20260416T062507Z
UID:10037141-1790726400-1800921599@actu.art
SUMMARY:Monet\, peindre le temps
DESCRIPTION:Claude Monet est considéré dès les années 1870 comme l’artiste impressionniste par excellence. Dans les années 1890\, avec les séries comme Les Cathédrales\, Les Meules\, Les Peupliers\, le peintre révèle une démarche proche de la dissection du temps\, jusqu’au testament final des Nymphéas. À l’occasion du centenaire de sa mort\, le musée organise une exposition centrée sur le rapport de l’œuvre de Monet au temps.
URL:https://actu.art/event/monet-peindre-le-temps/
LOCATION:Musée de l’Orangerie\, place de la Concorde Jardin des Tuileries\, Paris 01\, Paris\, 75001\, France
CATEGORIES:Expositions Temporaires
ATTACH;FMTTYPE=image/jpeg:https://actu.art/wp-content/uploads/2026/04/Monet_peindre_le_temps.jpg
GEO:48.8637952;2.3252006
X-APPLE-STRUCTURED-LOCATION;VALUE=URI;X-ADDRESS=Musée de l’Orangerie place de la Concorde Jardin des Tuileries Paris 01 Paris 75001 France;X-APPLE-RADIUS=500;X-TITLE=place de la Concorde Jardin des Tuileries:geo:2.3252006,48.8637952
END:VEVENT
BEGIN:VEVENT
DTSTART;TZID=Europe/Paris:20261002T110000
DTEND;TZID=Europe/Paris:20270502T180000
DTSTAMP:20260419T175713
CREATED:20260226T081018Z
LAST-MODIFIED:20260226T081018Z
UID:10034238-1790938800-1809280800@actu.art
SUMMARY:Rafael Pavarotti\, photographe
DESCRIPTION:L’exposition met en lumière le travail du photographe brésilien à travers plus de 200 tirages\, depuis les couvertures des  plus grands magazines de mode aux portraits des stars internationales de la pop culture\, en passant par les campagnes qu’il compose pour de grandes maisons. En ressort un style coloré et puissant\, créant des images fortes et uniques.
URL:https://actu.art/event/rafael-pavarotti-photographe/
LOCATION:Musée des Arts Décoratifs\, 107\, rue de Rivoli\, Paris\, Paris\, 75001\, France
CATEGORIES:Expositions
ATTACH;FMTTYPE=image/jpeg:https://actu.art/wp-content/uploads/2026/02/Rafael_Pavarotti_photographe.jpg
GEO:48.863091;2.333307
X-APPLE-STRUCTURED-LOCATION;VALUE=URI;X-ADDRESS=Musée des Arts Décoratifs 107 rue de Rivoli Paris Paris 75001 France;X-APPLE-RADIUS=500;X-TITLE=107\, rue de Rivoli:geo:2.333307,48.863091
END:VEVENT
BEGIN:VEVENT
DTSTART;TZID=Europe/Paris:20261006T093000
DTEND;TZID=Europe/Paris:20270131T180000
DTSTAMP:20260419T175713
CREATED:20260226T080859Z
LAST-MODIFIED:20260226T080859Z
UID:10034236-1791279000-1801418400@actu.art
SUMMARY:Mary Cassatt\, Le choix de l'indépendance
DESCRIPTION:Le musée d’Orsay organise une grande exposition consacrée à Mary Cassatt (1844-1926)\, en collaboration avec la National Portrait Gallery de Londres et le Museum of Fine Arts de Boston. L’évènement invite à découvrir la place centrale de cette artiste\, parvenue par son talent et sa détermination à se forger une identité unique dans l’histoire de l’art de la fin du XIXe siècle et du début du XXe\, de part et d’autre de l’Atlantique.
URL:https://actu.art/event/mary-cassatt-le-choix-de-lindependance/
LOCATION:Musée d’Orsay\, Esplanade Valéry Giscard d'Estaing\, Paris\, Paris\, 75007\, France
CATEGORIES:Expositions
ATTACH;FMTTYPE=image/jpeg:https://actu.art/wp-content/uploads/2026/02/Mary_Cassatt_Le_choix_de_l_independance.jpg
GEO:48.8601715;2.326074
X-APPLE-STRUCTURED-LOCATION;VALUE=URI;X-ADDRESS=Musée d’Orsay Esplanade Valéry Giscard d'Estaing Paris Paris 75007 France;X-APPLE-RADIUS=500;X-TITLE=Esplanade Valéry Giscard d'Estaing:geo:2.326074,48.8601715
END:VEVENT
END:VCALENDAR