BEGIN:VCALENDAR
VERSION:2.0
PRODID:-//Actu.Art - ECPv6.15.13//NONSGML v1.0//EN
CALSCALE:GREGORIAN
METHOD:PUBLISH
X-WR-CALNAME:Actu.Art
X-ORIGINAL-URL:https://actu.art
X-WR-CALDESC:Évènements pour Actu.Art
BEGIN:VTIMEZONE
TZID:Europe/Paris
BEGIN:DAYLIGHT
TZOFFSETFROM:+0100
TZOFFSETTO:+0200
TZNAME:CEST
DTSTART:20200329T010000
END:DAYLIGHT
BEGIN:STANDARD
TZOFFSETFROM:+0200
TZOFFSETTO:+0100
TZNAME:CET
DTSTART:20201025T010000
END:STANDARD
BEGIN:DAYLIGHT
TZOFFSETFROM:+0100
TZOFFSETTO:+0200
TZNAME:CEST
DTSTART:20210328T010000
END:DAYLIGHT
BEGIN:STANDARD
TZOFFSETFROM:+0200
TZOFFSETTO:+0100
TZNAME:CET
DTSTART:20211031T010000
END:STANDARD
BEGIN:DAYLIGHT
TZOFFSETFROM:+0100
TZOFFSETTO:+0200
TZNAME:CEST
DTSTART:20220327T010000
END:DAYLIGHT
BEGIN:STANDARD
TZOFFSETFROM:+0200
TZOFFSETTO:+0100
TZNAME:CET
DTSTART:20221030T010000
END:STANDARD
END:VTIMEZONE
BEGIN:VEVENT
DTSTART;TZID=Europe/Paris:20210519T100000
DTEND;TZID=Europe/Paris:20211010T190000
DTSTAMP:20260425T172315
CREATED:20210504T210159Z
LAST-MODIFIED:20211002T203729Z
UID:31484-1621418400-1633892400@actu.art
SUMMARY:Zao Wou-Ki : "Il ne fait jamais nuit"
DESCRIPTION:Venez découvrir les œuvres de l’artiste français d’origine chinoise Zao Wou-Ki (1920-2013)\, réalisée en collaboration avec la Fondation Zao Wou-Ki.  L’exposition regroupe près de 80 oeuvres de 1935 à 2009 (huiles sur toile\, aquarelles et encres de Chine sur papier) provenant de collections publiques et privées. Cet ensemble a pour ambition de mettre au jour un des grands thèmes de création de l’artiste : inventer de nouveaux espaces picturaux construits à partir de son travail sur la couleur et la représentation de la lumière. Lumière et espace sont en effet indissociables dans son œuvre et permettent de comprendre son objectif récurrent de « donner à voir » ce qui ne se voit pas et qui l’habite\, « l’espace du dedans »
URL:https://actu.art/event/zao-wou-ki-la-recherche-de-la-lumiere/
LOCATION:Hôtel de Caumont\, 3 rue Joseph-Cabassol\, Aix-en-Provence\, Bouches-du-Rhône\, 13100\, France
CATEGORIES:Notre Sélection
ATTACH;FMTTYPE=image/jpeg:https://actu.art/wp-content/uploads/2021/05/Zao-Wou-Ki-Il-ne-fait-jamais-nuit.jpg
GEO:43.5260543;5.449213
X-APPLE-STRUCTURED-LOCATION;VALUE=URI;X-ADDRESS=Hôtel de Caumont 3 rue Joseph-Cabassol Aix-en-Provence Bouches-du-Rhône 13100 France;X-APPLE-RADIUS=500;X-TITLE=3 rue Joseph-Cabassol:geo:5.449213,43.5260543
END:VEVENT
END:VCALENDAR