BEGIN:VCALENDAR
VERSION:2.0
PRODID:-//Actu.Art - ECPv6.15.13//NONSGML v1.0//EN
CALSCALE:GREGORIAN
METHOD:PUBLISH
X-WR-CALNAME:Actu.Art
X-ORIGINAL-URL:https://actu.art
X-WR-CALDESC:Évènements pour Actu.Art
BEGIN:VTIMEZONE
TZID:Europe/Paris
BEGIN:DAYLIGHT
TZOFFSETFROM:+0100
TZOFFSETTO:+0200
TZNAME:CEST
DTSTART:20180325T010000
END:DAYLIGHT
BEGIN:STANDARD
TZOFFSETFROM:+0200
TZOFFSETTO:+0100
TZNAME:CET
DTSTART:20181028T010000
END:STANDARD
BEGIN:DAYLIGHT
TZOFFSETFROM:+0100
TZOFFSETTO:+0200
TZNAME:CEST
DTSTART:20190331T010000
END:DAYLIGHT
BEGIN:STANDARD
TZOFFSETFROM:+0200
TZOFFSETTO:+0100
TZNAME:CET
DTSTART:20191027T010000
END:STANDARD
BEGIN:DAYLIGHT
TZOFFSETFROM:+0100
TZOFFSETTO:+0200
TZNAME:CEST
DTSTART:20200329T010000
END:DAYLIGHT
BEGIN:STANDARD
TZOFFSETFROM:+0200
TZOFFSETTO:+0100
TZNAME:CET
DTSTART:20201025T010000
END:STANDARD
END:VTIMEZONE
BEGIN:VEVENT
DTSTART;TZID=Europe/Paris:20190921T120000
DTEND;TZID=Europe/Paris:20191215T180000
DTSTAMP:20260424T231358
CREATED:20190914T155849Z
LAST-MODIFIED:20191027T213134Z
UID:16599-1569067200-1576432800@actu.art
SUMMARY:Willem Bastiaan Tholen (1860-1931) : un impressionniste néerlandais
DESCRIPTION:Willem Bastiaan Tholen s’essaya à des sujets très divers en s’intéressant surtout à l’atmosphère\, aux couleurs et à la lumière. Si ses paysages et ses marines sont les plus connus\, ses vues urbaines et ses intérieurs surprennent davantage. Son œuvre s’apparente aux tableaux du mouvement naturaliste École de La Haye ainsi qu’au mouvement impressionniste d’Amsterdam. Une centaine d’œuvres (tableaux\, dessins et estampes) sont ici présentées.
URL:https://actu.art/event/willem-bastiaan-tholen-1860-1931-un-impressionniste-neerlandais/
LOCATION:Fondation Custodia\, 121 Rue de Lille\, Paris\, Paris\, 75007\, France
CATEGORIES:Notre Sélection
ATTACH;FMTTYPE=image/jpeg:https://actu.art/wp-content/uploads/2019/09/Willem_Bastiaan_Tholen_1860_1931_un_impressionniste_neerlandais.jpg
GEO:48.8613086;2.3197055
X-APPLE-STRUCTURED-LOCATION;VALUE=URI;X-ADDRESS=Fondation Custodia 121 Rue de Lille Paris Paris 75007 France;X-APPLE-RADIUS=500;X-TITLE=121 Rue de Lille:geo:2.3197055,48.8613086
END:VEVENT
END:VCALENDAR