BEGIN:VCALENDAR
VERSION:2.0
PRODID:-//Actu.Art - ECPv6.15.13//NONSGML v1.0//EN
CALSCALE:GREGORIAN
METHOD:PUBLISH
X-WR-CALNAME:Actu.Art
X-ORIGINAL-URL:https://actu.art
X-WR-CALDESC:Évènements pour Actu.Art
BEGIN:VTIMEZONE
TZID:Europe/Paris
BEGIN:DAYLIGHT
TZOFFSETFROM:+0100
TZOFFSETTO:+0200
TZNAME:CEST
DTSTART:20190331T010000
END:DAYLIGHT
BEGIN:STANDARD
TZOFFSETFROM:+0200
TZOFFSETTO:+0100
TZNAME:CET
DTSTART:20191027T010000
END:STANDARD
BEGIN:DAYLIGHT
TZOFFSETFROM:+0100
TZOFFSETTO:+0200
TZNAME:CEST
DTSTART:20200329T010000
END:DAYLIGHT
BEGIN:STANDARD
TZOFFSETFROM:+0200
TZOFFSETTO:+0100
TZNAME:CET
DTSTART:20201025T010000
END:STANDARD
BEGIN:DAYLIGHT
TZOFFSETFROM:+0100
TZOFFSETTO:+0200
TZNAME:CEST
DTSTART:20210328T010000
END:DAYLIGHT
BEGIN:STANDARD
TZOFFSETFROM:+0200
TZOFFSETTO:+0100
TZNAME:CET
DTSTART:20211031T010000
END:STANDARD
BEGIN:DAYLIGHT
TZOFFSETFROM:+0100
TZOFFSETTO:+0200
TZNAME:CEST
DTSTART:20220327T010000
END:DAYLIGHT
BEGIN:STANDARD
TZOFFSETFROM:+0200
TZOFFSETTO:+0100
TZNAME:CET
DTSTART:20221030T010000
END:STANDARD
END:VTIMEZONE
BEGIN:VEVENT
DTSTART;VALUE=DATE:20201016
DTEND;VALUE=DATE:20210809
DTSTAMP:20260425T234652
CREATED:20200804T092017Z
LAST-MODIFIED:20210612T105249Z
UID:24250-1602806400-1628467199@actu.art
SUMMARY:Voyage sur la route du Kisokaidō
DESCRIPTION:Cette exposition présente un ensemble inédit de près de 150 estampes japonaises\, dont certaines sont dévoilées pour la première fois au public. Le parcours est rythmé par les différents relais de la route du Kisokaidō. Un choix d’objets (armures\, boîtes à calligraphie\, katana\, selles de bataille\, nécessaires à pique-nique) fait écho aux gravures exposées. Un retour en images sur l’une des routes les plus mythiques du Japon.
URL:https://actu.art/event/voyage-sur-la-route-du-kisokaido/
LOCATION:Musée Cernuschi\, Hôtel particulier - 7 avenue Vélasquez\, Paris\, Paris\, 75008\, France
CATEGORIES:Notre Sélection
ATTACH;FMTTYPE=image/jpeg:https://actu.art/wp-content/uploads/2020/08/Voyage-sur-la-Route-du-KisoKaido.jpg
GEO:48.8795553;2.3124514
X-APPLE-STRUCTURED-LOCATION;VALUE=URI;X-ADDRESS=Musée Cernuschi Hôtel particulier - 7 avenue Vélasquez Paris Paris 75008 France;X-APPLE-RADIUS=500;X-TITLE=Hôtel particulier - 7 avenue Vélasquez:geo:2.3124514,48.8795553
END:VEVENT
END:VCALENDAR