BEGIN:VCALENDAR
VERSION:2.0
PRODID:-//Actu.Art - ECPv6.15.13//NONSGML v1.0//EN
CALSCALE:GREGORIAN
METHOD:PUBLISH
X-WR-CALNAME:Actu.Art
X-ORIGINAL-URL:https://actu.art
X-WR-CALDESC:Évènements pour Actu.Art
BEGIN:VTIMEZONE
TZID:Europe/Paris
BEGIN:DAYLIGHT
TZOFFSETFROM:+0100
TZOFFSETTO:+0200
TZNAME:CEST
DTSTART:20240331T010000
END:DAYLIGHT
BEGIN:STANDARD
TZOFFSETFROM:+0200
TZOFFSETTO:+0100
TZNAME:CET
DTSTART:20241027T010000
END:STANDARD
BEGIN:DAYLIGHT
TZOFFSETFROM:+0100
TZOFFSETTO:+0200
TZNAME:CEST
DTSTART:20250330T010000
END:DAYLIGHT
BEGIN:STANDARD
TZOFFSETFROM:+0200
TZOFFSETTO:+0100
TZNAME:CET
DTSTART:20251026T010000
END:STANDARD
BEGIN:DAYLIGHT
TZOFFSETFROM:+0100
TZOFFSETTO:+0200
TZNAME:CEST
DTSTART:20260329T010000
END:DAYLIGHT
BEGIN:STANDARD
TZOFFSETFROM:+0200
TZOFFSETTO:+0100
TZNAME:CET
DTSTART:20261025T010000
END:STANDARD
END:VTIMEZONE
BEGIN:VEVENT
DTSTART;TZID=Europe/Paris:20250504T140000
DTEND;TZID=Europe/Paris:20250504T190000
DTSTAMP:20260423T022114
CREATED:20250506T221631Z
LAST-MODIFIED:20250506T221631Z
UID:117201-1746367200-1746385200@actu.art
SUMMARY:Visite d'atelier Villas
DESCRIPTION:Venez jeter un coup d’œil dans l’atelier du sculpteur Patrick Villas – découvrez les œuvres en cours. \nAprès avoir suscité l’enthousiasme des critiques et du public lors de nombreuses expositions en France et à travers le monde\, l’artiste Patrick Villas\, figure incontournable de la sculpture animalière contemporaine\, ouvre les portes de son atelier au public en dehors des expositions organisées chaque été depuis 6 ans.\nNiché aux confins paisibles de la Haute-Marne\, entre les localités de Neufchâteau et Vittel\, Patrick Villas accueille les visiteurs dans un cadre enchanteur : son jardin\, qui s’ouvre sur une vallée pittoresque\, est le théâtre de la présentation d’une vingtaine d’œuvres monumentales et semi-monumentales\, représentant tantôt des animaux\, tantôt des figures humaines\, façonnées avec talent dans des matériaux tels que la céramique et le bronze. En plus de contempler ces créations\, les visiteurs sont invités à découvrir l’atelier même où naissent ces œuvres d’art et où sont exposées les œuvres de l’artiste même et d’une dizaine d’autres artistes internationaux.
URL:https://actu.art/event/visite-datelier-villas/
LOCATION:Jardin de Sculptures\, 6 Rue Richard\, Soulaucourt-sur-Mouzon \, Haute-Marne\, 52150\, France
CATEGORIES:Ateliers d'Artistes
ATTACH;FMTTYPE=image/jpeg:https://actu.art/wp-content/uploads/2025/05/Visite_d_atelier_Villas.jpg
GEO:48.199282;5.6789855
X-APPLE-STRUCTURED-LOCATION;VALUE=URI;X-ADDRESS=Jardin de Sculptures 6 Rue Richard Soulaucourt-sur-Mouzon  Haute-Marne 52150 France;X-APPLE-RADIUS=500;X-TITLE=6 Rue Richard:geo:5.6789855,48.199282
END:VEVENT
END:VCALENDAR