BEGIN:VCALENDAR
VERSION:2.0
PRODID:-//Actu.Art - ECPv6.15.13//NONSGML v1.0//EN
CALSCALE:GREGORIAN
METHOD:PUBLISH
X-WR-CALNAME:Actu.Art
X-ORIGINAL-URL:https://actu.art
X-WR-CALDESC:Évènements pour Actu.Art
BEGIN:VTIMEZONE
TZID:Europe/Paris
BEGIN:DAYLIGHT
TZOFFSETFROM:+0100
TZOFFSETTO:+0200
TZNAME:CEST
DTSTART:20240331T010000
END:DAYLIGHT
BEGIN:STANDARD
TZOFFSETFROM:+0200
TZOFFSETTO:+0100
TZNAME:CET
DTSTART:20241027T010000
END:STANDARD
BEGIN:DAYLIGHT
TZOFFSETFROM:+0100
TZOFFSETTO:+0200
TZNAME:CEST
DTSTART:20250330T010000
END:DAYLIGHT
BEGIN:STANDARD
TZOFFSETFROM:+0200
TZOFFSETTO:+0100
TZNAME:CET
DTSTART:20251026T010000
END:STANDARD
BEGIN:DAYLIGHT
TZOFFSETFROM:+0100
TZOFFSETTO:+0200
TZNAME:CEST
DTSTART:20260329T010000
END:DAYLIGHT
BEGIN:STANDARD
TZOFFSETFROM:+0200
TZOFFSETTO:+0100
TZNAME:CET
DTSTART:20261025T010000
END:STANDARD
END:VTIMEZONE
BEGIN:VEVENT
DTSTART;TZID=Europe/Paris:20251117T000000
DTEND;TZID=Europe/Paris:20251207T235900
DTSTAMP:20260424T043821
CREATED:20251127T212608Z
LAST-MODIFIED:20251127T212608Z
UID:134428-1763337600-1765151940@actu.art
SUMMARY:Viroflay – Exposition l’art du trompe-l’oeil
DESCRIPTION:Son nom décrit parfaitement son but : créer des illusions d’optique si convaincantes qu’elles donnent l’impression que des objets tridimensionnels existent sur une surface bidimensionnelle.\nLe trompe-l’œil trouve ses origines dans l’Antiquité\, notamment dans la peinture romaine\, où les artistes peignent des fresques pour simuler des architectures ou des paysages. Ces œuvres sont conçues pour embellir les murs et donner une sensation d’espace\, transformant des intérieurs en véritables scènes de vie. Au fil des siècles\, cette technique évolue\, atteignant son apogée durant la Renaissance. Si le trompe-l’œil se fait de plus en plus rare à partir du XIXᵉ siècle\, à l’époque où les préoccupations esthétiques et conceptuelles prennent le dessus\, il persiste cependant sous des formes variées et traverse les grands courants qui se succèdent. \nLes artistes contemporains se jouent de la matière et de nos perceptions à travers de multiples techniques\, allant jusqu’à créer des œuvres éphémères sur les trottoirs et les murs pour immerger les passants dans une réalité virtuelle saisissante. \nC’est un art qui ne se contente pas de représenter le monde\, mais qui le réinvente\, nous poussant à voir au-delà de la surface et à questionner la nature même de la réalité. Dans un monde où les images sont omniprésentes\, cette technique rappelle l’importance de la vision et de l’illusion dans notre expérience quotidienne.
URL:https://actu.art/event/viroflay-exposition-lart-du-trompe-loeil/
LOCATION:Galerie A l’Ecu de France\, 1 rue Robert Cahen\, Viroflay\, Yvelines\, 78220\, France
CATEGORIES:Expositions
ATTACH;FMTTYPE=image/jpeg:https://actu.art/wp-content/uploads/2025/11/Viroflay_Exposition_l_art_du_trompe_l_oeil.jpg
GEO:48.8043092;2.1756433
X-APPLE-STRUCTURED-LOCATION;VALUE=URI;X-ADDRESS=Galerie A l’Ecu de France 1 rue Robert Cahen Viroflay Yvelines 78220 France;X-APPLE-RADIUS=500;X-TITLE=1 rue Robert Cahen:geo:2.1756433,48.8043092
END:VEVENT
END:VCALENDAR