BEGIN:VCALENDAR
VERSION:2.0
PRODID:-//Actu.Art - ECPv6.15.13//NONSGML v1.0//EN
CALSCALE:GREGORIAN
METHOD:PUBLISH
X-WR-CALNAME:Actu.Art
X-ORIGINAL-URL:https://actu.art
X-WR-CALDESC:Évènements pour Actu.Art
BEGIN:VTIMEZONE
TZID:Europe/Paris
BEGIN:DAYLIGHT
TZOFFSETFROM:+0100
TZOFFSETTO:+0200
TZNAME:CEST
DTSTART:20240331T010000
END:DAYLIGHT
BEGIN:STANDARD
TZOFFSETFROM:+0200
TZOFFSETTO:+0100
TZNAME:CET
DTSTART:20241027T010000
END:STANDARD
BEGIN:DAYLIGHT
TZOFFSETFROM:+0100
TZOFFSETTO:+0200
TZNAME:CEST
DTSTART:20250330T010000
END:DAYLIGHT
BEGIN:STANDARD
TZOFFSETFROM:+0200
TZOFFSETTO:+0100
TZNAME:CET
DTSTART:20251026T010000
END:STANDARD
BEGIN:DAYLIGHT
TZOFFSETFROM:+0100
TZOFFSETTO:+0200
TZNAME:CEST
DTSTART:20260329T010000
END:DAYLIGHT
BEGIN:STANDARD
TZOFFSETFROM:+0200
TZOFFSETTO:+0100
TZNAME:CET
DTSTART:20261025T010000
END:STANDARD
END:VTIMEZONE
BEGIN:VEVENT
DTSTART;TZID=Europe/Paris:20250419T103000
DTEND;TZID=Europe/Paris:20250419T180000
DTSTAMP:20260424T075359
CREATED:20250316T213157Z
LAST-MODIFIED:20250316T213157Z
UID:111941-1745058600-1745085600@actu.art
SUMMARY:Vide Atelier
DESCRIPTION:Vente de dessins et toiles. Entrée libre.
URL:https://actu.art/event/vide-atelier/
LOCATION:Parc de la Baleine\, Rue de la Mer 45\, Luc-sur-Mer\, Calvados\, 14530\, France
CATEGORIES:Événements Artistiques locaux
GEO:49.3179668;-0.3555875
X-APPLE-STRUCTURED-LOCATION;VALUE=URI;X-ADDRESS=Parc de la Baleine Rue de la Mer 45 Luc-sur-Mer Calvados 14530 France;X-APPLE-RADIUS=500;X-TITLE=Rue de la Mer 45:geo:-0.3555875,49.3179668
END:VEVENT
END:VCALENDAR