BEGIN:VCALENDAR
VERSION:2.0
PRODID:-//Actu.Art - ECPv6.15.13//NONSGML v1.0//EN
CALSCALE:GREGORIAN
METHOD:PUBLISH
X-WR-CALNAME:Actu.Art
X-ORIGINAL-URL:https://actu.art
X-WR-CALDESC:Évènements pour Actu.Art
BEGIN:VTIMEZONE
TZID:Europe/Paris
BEGIN:DAYLIGHT
TZOFFSETFROM:+0100
TZOFFSETTO:+0200
TZNAME:CEST
DTSTART:20240331T010000
END:DAYLIGHT
BEGIN:STANDARD
TZOFFSETFROM:+0200
TZOFFSETTO:+0100
TZNAME:CET
DTSTART:20241027T010000
END:STANDARD
BEGIN:DAYLIGHT
TZOFFSETFROM:+0100
TZOFFSETTO:+0200
TZNAME:CEST
DTSTART:20250330T010000
END:DAYLIGHT
BEGIN:STANDARD
TZOFFSETFROM:+0200
TZOFFSETTO:+0100
TZNAME:CET
DTSTART:20251026T010000
END:STANDARD
BEGIN:DAYLIGHT
TZOFFSETFROM:+0100
TZOFFSETTO:+0200
TZNAME:CEST
DTSTART:20260329T010000
END:DAYLIGHT
BEGIN:STANDARD
TZOFFSETFROM:+0200
TZOFFSETTO:+0100
TZNAME:CET
DTSTART:20261025T010000
END:STANDARD
END:VTIMEZONE
BEGIN:VEVENT
DTSTART;TZID=Europe/Paris:20250723T100000
DTEND;TZID=Europe/Paris:20250824T183000
DTSTAMP:20260422T094724
CREATED:20250811T215756Z
LAST-MODIFIED:20250811T215756Z
UID:126784-1753264800-1756060200@actu.art
SUMMARY:Vernissage et exposition "L'ombre d'un instant" de Cathy Goergler
DESCRIPTION:L’atelier-Galerie Le 10 accueil l’artiste Cathy Goergler dans le cadre d’une exposition intitulée « L’ombre d’un instant ». \nA propos de l’artiste :  \n« Artiste plasticienne et enseignante en arts\, installée dans les Landes\, je\npartage ma vie entre la création et la transmission\, deux pratiques qui\ndialoguent et s’enrichissent mutuellement
URL:https://actu.art/event/vernissage-et-exposition-lombre-dun-instant-de-cathy-goergler/
LOCATION:Atelier-Galerie Le 10\, Allée des Platanes 10\, Montcuq-en-Quercy-Blanc\, Lot\, 46800\, France
CATEGORIES:Expositions
ATTACH;FMTTYPE=image/jpeg:https://actu.art/wp-content/uploads/2025/08/Vernissage_et_exposition_L_ombre_d_un_instant_de_Cathy_Goergler.jpg
GEO:44.3389483;1.2104223
X-APPLE-STRUCTURED-LOCATION;VALUE=URI;X-ADDRESS=Atelier-Galerie Le 10 Allée des Platanes 10 Montcuq-en-Quercy-Blanc Lot 46800 France;X-APPLE-RADIUS=500;X-TITLE=Allée des Platanes 10:geo:1.2104223,44.3389483
END:VEVENT
END:VCALENDAR