BEGIN:VCALENDAR
VERSION:2.0
PRODID:-//Actu.Art - ECPv6.15.13//NONSGML v1.0//EN
CALSCALE:GREGORIAN
METHOD:PUBLISH
X-WR-CALNAME:Actu.Art
X-ORIGINAL-URL:https://actu.art
X-WR-CALDESC:Évènements pour Actu.Art
BEGIN:VTIMEZONE
TZID:Europe/Paris
BEGIN:DAYLIGHT
TZOFFSETFROM:+0100
TZOFFSETTO:+0200
TZNAME:CEST
DTSTART:20240331T010000
END:DAYLIGHT
BEGIN:STANDARD
TZOFFSETFROM:+0200
TZOFFSETTO:+0100
TZNAME:CET
DTSTART:20241027T010000
END:STANDARD
BEGIN:DAYLIGHT
TZOFFSETFROM:+0100
TZOFFSETTO:+0200
TZNAME:CEST
DTSTART:20250330T010000
END:DAYLIGHT
BEGIN:STANDARD
TZOFFSETFROM:+0200
TZOFFSETTO:+0100
TZNAME:CET
DTSTART:20251026T010000
END:STANDARD
BEGIN:DAYLIGHT
TZOFFSETFROM:+0100
TZOFFSETTO:+0200
TZNAME:CEST
DTSTART:20260329T010000
END:DAYLIGHT
BEGIN:STANDARD
TZOFFSETFROM:+0200
TZOFFSETTO:+0100
TZNAME:CET
DTSTART:20261025T010000
END:STANDARD
END:VTIMEZONE
BEGIN:VEVENT
DTSTART;VALUE=DATE:20250614
DTEND;VALUE=DATE:20250715
DTSTAMP:20260426T012956
CREATED:20250530T215347Z
LAST-MODIFIED:20250530T215347Z
UID:118085-1749859200-1752537599@actu.art
SUMMARY:Universal : Chuck Sperry
DESCRIPTION:Artiste engagé et véritable maître de la sérigraphie\, Chuck Sperry est internationalement reconnu pour ses œuvres mêlant art nouveau\, activisme et culture pop. Il a notamment collaboré avec les plus grandes légendes de la musique telles que Pearl Jam\, Bob Dylan\, Patti Smith\, Nick Cave ou The Black Keys\, réalisant des affiches de concert devenues cultes.
URL:https://actu.art/event/universal-chuck-sperry/
LOCATION:Galerie L’œil ouvert\, Rue Lucien Sampaix 1\, Paris\, Département de Paris\, 75010\, France
CATEGORIES:Expositions Galeries
ATTACH;FMTTYPE=image/jpeg:https://actu.art/wp-content/uploads/2025/05/Universal_Chuck_Sperry.jpg
GEO:48.8707439;2.3595784
X-APPLE-STRUCTURED-LOCATION;VALUE=URI;X-ADDRESS=Galerie L’œil ouvert Rue Lucien Sampaix 1 Paris Département de Paris 75010 France;X-APPLE-RADIUS=500;X-TITLE=Rue Lucien Sampaix 1:geo:2.3595784,48.8707439
END:VEVENT
END:VCALENDAR