BEGIN:VCALENDAR
VERSION:2.0
PRODID:-//Actu.Art - ECPv6.15.13//NONSGML v1.0//EN
CALSCALE:GREGORIAN
METHOD:PUBLISH
X-WR-CALNAME:Actu.Art
X-ORIGINAL-URL:https://actu.art
X-WR-CALDESC:Évènements pour Actu.Art
BEGIN:VTIMEZONE
TZID:Europe/Paris
BEGIN:DAYLIGHT
TZOFFSETFROM:+0100
TZOFFSETTO:+0200
TZNAME:CEST
DTSTART:20230326T010000
END:DAYLIGHT
BEGIN:STANDARD
TZOFFSETFROM:+0200
TZOFFSETTO:+0100
TZNAME:CET
DTSTART:20231029T010000
END:STANDARD
BEGIN:DAYLIGHT
TZOFFSETFROM:+0100
TZOFFSETTO:+0200
TZNAME:CEST
DTSTART:20240331T010000
END:DAYLIGHT
BEGIN:STANDARD
TZOFFSETFROM:+0200
TZOFFSETTO:+0100
TZNAME:CET
DTSTART:20241027T010000
END:STANDARD
BEGIN:DAYLIGHT
TZOFFSETFROM:+0100
TZOFFSETTO:+0200
TZNAME:CEST
DTSTART:20250330T010000
END:DAYLIGHT
BEGIN:STANDARD
TZOFFSETFROM:+0200
TZOFFSETTO:+0100
TZNAME:CET
DTSTART:20251026T010000
END:STANDARD
END:VTIMEZONE
BEGIN:VEVENT
DTSTART;TZID=Europe/Paris:20241110T100000
DTEND;TZID=Europe/Paris:20241130T180000
DTSTAMP:20260421T175607
CREATED:20241010T195535Z
LAST-MODIFIED:20241010T195535Z
UID:100572-1731232800-1732989600@actu.art
SUMMARY:Univers 2024 et les 5 sens
DESCRIPTION:Rendez-vous à l’abbatiale Judith de  Bretagne  de Bernay 27300 pour vous confronter à l’art d’aujourd’hui. 66 artistes proposent au public leur travail.
URL:https://actu.art/event/univers-2024-et-les-5-sens/
LOCATION:Abbatiale Notre Dame de Bernay\, Place Gustave Heon\, Bernay\, Eure\, 27300\, France
CATEGORIES:Expositions
ATTACH;FMTTYPE=image/jpeg:https://actu.art/wp-content/uploads/2024/10/Univers_2024_et_les_5_sens.jpg
GEO:49.089437;0.5977149
X-APPLE-STRUCTURED-LOCATION;VALUE=URI;X-ADDRESS=Abbatiale Notre Dame de Bernay Place Gustave Heon Bernay Eure 27300 France;X-APPLE-RADIUS=500;X-TITLE=Place Gustave Heon:geo:0.5977149,49.089437
END:VEVENT
END:VCALENDAR