BEGIN:VCALENDAR
VERSION:2.0
PRODID:-//Actu.Art - ECPv6.15.13//NONSGML v1.0//EN
CALSCALE:GREGORIAN
METHOD:PUBLISH
X-WR-CALNAME:Actu.Art
X-ORIGINAL-URL:https://actu.art
X-WR-CALDESC:Évènements pour Actu.Art
BEGIN:VTIMEZONE
TZID:Europe/Paris
BEGIN:DAYLIGHT
TZOFFSETFROM:+0100
TZOFFSETTO:+0200
TZNAME:CEST
DTSTART:20240331T010000
END:DAYLIGHT
BEGIN:STANDARD
TZOFFSETFROM:+0200
TZOFFSETTO:+0100
TZNAME:CET
DTSTART:20241027T010000
END:STANDARD
BEGIN:DAYLIGHT
TZOFFSETFROM:+0100
TZOFFSETTO:+0200
TZNAME:CEST
DTSTART:20250330T010000
END:DAYLIGHT
BEGIN:STANDARD
TZOFFSETFROM:+0200
TZOFFSETTO:+0100
TZNAME:CET
DTSTART:20251026T010000
END:STANDARD
BEGIN:DAYLIGHT
TZOFFSETFROM:+0100
TZOFFSETTO:+0200
TZNAME:CEST
DTSTART:20260329T010000
END:DAYLIGHT
BEGIN:STANDARD
TZOFFSETFROM:+0200
TZOFFSETTO:+0100
TZNAME:CET
DTSTART:20261025T010000
END:STANDARD
END:VTIMEZONE
BEGIN:VEVENT
DTSTART;TZID=Europe/Paris:20250701T110000
DTEND;TZID=Europe/Paris:20250723T190000
DTSTAMP:20260422T114829
CREATED:20250620T164548Z
LAST-MODIFIED:20250625T091949Z
UID:121609-1751367600-1753297200@actu.art
SUMMARY:(un trio) Dans la force de l’art
DESCRIPTION:Exposition [Un trio] dans la force de l’art\nAnne Mourat sculpture\, Noortje Piccer sculpture et Michèle Sainte-Beuve photographie\nLes trois artistes exposent leurs créations à l’Espace Saint-Jacques à Lambesc.\nUn dialogue entre matières et regards\nL’exposition crée une rencontre entre fer\, photographie et sculpture. Chaque œuvre tisse un lien avec le spectateur\, offrant un voyage entre matière et émotion. Une exploration artistique où l’art transcende la matière pour toucher l’âme. \ndu 1er juillet au 23 juillet\nOuvert tous les jours de 11h à 20h\nEntrée gratuite\nVernissage le vendredi 04 juillet à partir de 18h30
URL:https://actu.art/event/un-trio-dans-la-force-de-lart/
LOCATION:Espace Saint-Jacques\, Avenue de Verdun 3\, Lambesc\, Bouches-du-Rhône\, 13410\, France
CATEGORIES:Expositions
ATTACH;FMTTYPE=image/jpeg:https://actu.art/wp-content/uploads/2025/06/Dans-la-force-de-lart_Espace-Saint-Jacques_Invitations-copie.jpg
GEO:43.653328;5.2650908
X-APPLE-STRUCTURED-LOCATION;VALUE=URI;X-ADDRESS=Espace Saint-Jacques Avenue de Verdun 3 Lambesc Bouches-du-Rhône 13410 France;X-APPLE-RADIUS=500;X-TITLE=Avenue de Verdun 3:geo:5.2650908,43.653328
END:VEVENT
END:VCALENDAR