BEGIN:VCALENDAR
VERSION:2.0
PRODID:-//Actu.Art - ECPv6.15.13//NONSGML v1.0//EN
CALSCALE:GREGORIAN
METHOD:PUBLISH
X-WR-CALNAME:Actu.Art
X-ORIGINAL-URL:https://actu.art
X-WR-CALDESC:Évènements pour Actu.Art
BEGIN:VTIMEZONE
TZID:Europe/Paris
BEGIN:DAYLIGHT
TZOFFSETFROM:+0100
TZOFFSETTO:+0200
TZNAME:CEST
DTSTART:20240331T010000
END:DAYLIGHT
BEGIN:STANDARD
TZOFFSETFROM:+0200
TZOFFSETTO:+0100
TZNAME:CET
DTSTART:20241027T010000
END:STANDARD
BEGIN:DAYLIGHT
TZOFFSETFROM:+0100
TZOFFSETTO:+0200
TZNAME:CEST
DTSTART:20250330T010000
END:DAYLIGHT
BEGIN:STANDARD
TZOFFSETFROM:+0200
TZOFFSETTO:+0100
TZNAME:CET
DTSTART:20251026T010000
END:STANDARD
BEGIN:DAYLIGHT
TZOFFSETFROM:+0100
TZOFFSETTO:+0200
TZNAME:CEST
DTSTART:20260329T010000
END:DAYLIGHT
BEGIN:STANDARD
TZOFFSETFROM:+0200
TZOFFSETTO:+0100
TZNAME:CET
DTSTART:20261025T010000
END:STANDARD
END:VTIMEZONE
BEGIN:VEVENT
DTSTART;TZID=Europe/Paris:20251004T170000
DTEND;TZID=Europe/Paris:20251004T193000
DTSTAMP:20260424T225040
CREATED:20250925T210523Z
LAST-MODIFIED:20250925T210523Z
UID:129458-1759597200-1759606200@actu.art
SUMMARY:Un presque vernissage à La Galerie Miniature
DESCRIPTION:Un presque vernissage\, c’est la rencontre conviviale et chaleureuse entre le public et les artistes exposants à La Galerie Miniature\, ancien kiosque à journaux de la place Bellegarde à Aix-en-Provence.\nLa Galerie Miniature\, portée par l’association Automatikart\, convie le public à son « presque vernissage »\, samedi 4 octobre\, afin de présenter les travaux des nouveaux artistes visibles du 1er au 31 octobre : Pierrette Prophète (collages)\, Camille Géraldès (peinture)\, Florence Chauvet (peinture-illustration)\, Ned (dessin)\, Gabriela Mesquita (huile sur photos et aquarelles)\, Celhub (peinture)\, Philippe Lavaine (encre)\,  Claire n’K (dessin-peinture)\, Bhéatrice Chanard (aquarelles)\, Zabou M. (broderie sur photo)\, Daredare (dioramas miniatures) ainsi que les travaux des fondateurs d’Automatikart :  Didier Gianella (collages)  et Emmanuelle de Rosa (assemblages).\nVenez rencontrer les artistes à partir de 17h et découvrir leurs travaux dès 14h. Entrée libre.
URL:https://actu.art/event/un-presque-vernissage-a-la-galerie-miniature-2/
LOCATION:La Galerie Miniature\, place Bellegarde\, Aix-en-Provence\, 13100
CATEGORIES:Expositions
ATTACH;FMTTYPE=image/jpeg:https://actu.art/wp-content/uploads/2025/09/invitation-GM-OCTOBRE.jpg
GEO:43.532096;5.451196
X-APPLE-STRUCTURED-LOCATION;VALUE=URI;X-ADDRESS=La Galerie Miniature place Bellegarde Aix-en-Provence 13100;X-APPLE-RADIUS=500;X-TITLE=place Bellegarde:geo:5.451196,43.532096
END:VEVENT
END:VCALENDAR