BEGIN:VCALENDAR
VERSION:2.0
PRODID:-//Actu.Art - ECPv6.15.13//NONSGML v1.0//EN
CALSCALE:GREGORIAN
METHOD:PUBLISH
X-WR-CALNAME:Actu.Art
X-ORIGINAL-URL:https://actu.art
X-WR-CALDESC:Évènements pour Actu.Art
BEGIN:VTIMEZONE
TZID:Europe/Paris
BEGIN:DAYLIGHT
TZOFFSETFROM:+0100
TZOFFSETTO:+0200
TZNAME:CEST
DTSTART:20250330T010000
END:DAYLIGHT
BEGIN:STANDARD
TZOFFSETFROM:+0200
TZOFFSETTO:+0100
TZNAME:CET
DTSTART:20251026T010000
END:STANDARD
BEGIN:DAYLIGHT
TZOFFSETFROM:+0100
TZOFFSETTO:+0200
TZNAME:CEST
DTSTART:20260329T010000
END:DAYLIGHT
BEGIN:STANDARD
TZOFFSETFROM:+0200
TZOFFSETTO:+0100
TZNAME:CET
DTSTART:20261025T010000
END:STANDARD
BEGIN:DAYLIGHT
TZOFFSETFROM:+0100
TZOFFSETTO:+0200
TZNAME:CEST
DTSTART:20270328T010000
END:DAYLIGHT
BEGIN:STANDARD
TZOFFSETFROM:+0200
TZOFFSETTO:+0100
TZNAME:CET
DTSTART:20271031T010000
END:STANDARD
END:VTIMEZONE
BEGIN:VEVENT
DTSTART;TZID=Europe/Paris:20260410T110000
DTEND;TZID=Europe/Paris:20260509T190000
DTSTAMP:20260426T000249
CREATED:20260418T192526Z
LAST-MODIFIED:20260418T192526Z
UID:143880-1775818800-1778353200@actu.art
SUMMARY:Un gône du vieux Lyon – Pamphyle
DESCRIPTION:Pamphyle exposé à la Galerie Platini Lyon Célestin\n\n\n\n5 au 29 mars\, au cœur du Vieux-Lyon\, le Palais de Bondy a accueilli la rétrospective « Pamphyle – Un gone du Vieux-Lyon »\, consacrée à l’artiste peintre et sculpteur lyonnais.Merci d’avoir contribué à faire vivre cette rétrospective et à célébrer ensemble plus de cinquante années de création.\nL’exposition se prolonge à la Galerie Platini Lyon Célestins. \nDu mardi au samedi – 11h/12h30 & 14h/19h
URL:https://actu.art/event/un-gone-du-vieux-lyon-pamphyle/
LOCATION:Galerie Platini Lyon Célestins\, 7 Place des Célestins\, Lyon 02\, 69002\, France
CATEGORIES:Expositions Galeries
ATTACH;FMTTYPE=image/jpeg:https://actu.art/wp-content/uploads/2026/04/Un-gone-du-vieux-Lyon-Pamphyle.jpg
END:VEVENT
END:VCALENDAR