BEGIN:VCALENDAR
VERSION:2.0
PRODID:-//Actu.Art - ECPv6.15.13//NONSGML v1.0//EN
CALSCALE:GREGORIAN
METHOD:PUBLISH
X-WR-CALNAME:Actu.Art
X-ORIGINAL-URL:https://actu.art
X-WR-CALDESC:Évènements pour Actu.Art
BEGIN:VTIMEZONE
TZID:Europe/Paris
BEGIN:DAYLIGHT
TZOFFSETFROM:+0100
TZOFFSETTO:+0200
TZNAME:CEST
DTSTART:20250330T010000
END:DAYLIGHT
BEGIN:STANDARD
TZOFFSETFROM:+0200
TZOFFSETTO:+0100
TZNAME:CET
DTSTART:20251026T010000
END:STANDARD
BEGIN:DAYLIGHT
TZOFFSETFROM:+0100
TZOFFSETTO:+0200
TZNAME:CEST
DTSTART:20260329T010000
END:DAYLIGHT
BEGIN:STANDARD
TZOFFSETFROM:+0200
TZOFFSETTO:+0100
TZNAME:CET
DTSTART:20261025T010000
END:STANDARD
BEGIN:DAYLIGHT
TZOFFSETFROM:+0100
TZOFFSETTO:+0200
TZNAME:CEST
DTSTART:20270328T010000
END:DAYLIGHT
BEGIN:STANDARD
TZOFFSETFROM:+0200
TZOFFSETTO:+0100
TZNAME:CET
DTSTART:20271031T010000
END:STANDARD
END:VTIMEZONE
BEGIN:VEVENT
DTSTART;TZID=Europe/Paris:20260425T100000
DTEND;TZID=Europe/Paris:20261011T180000
DTSTAMP:20260423T180326
CREATED:20260421T212937Z
LAST-MODIFIED:20260421T212937Z
UID:144209-1777111200-1791741600@actu.art
SUMMARY:Tursic & Mille : Dissonances à géométries variables
DESCRIPTION:Carré d’Art – Musée d’art contemporain consacre une exposition majeure à Ida Tursic & Wilfried Mille\, dont la pratique en duo\, développée depuis plus de vingt ans\, interroge de manière frontale les conditions d’existence de la peinture dans un monde saturé d’images. Leur travail ne cherche ni à préserver le médium\, ni à en affirmer la pureté\, mais à l’exposer à l’excès\, à la collision et à la dissonance
URL:https://actu.art/event/tursic-mille-dissonances-a-geometries-variables/
LOCATION:Carré d’Art – Musée d’Art Contemporain\, place de la Maison Carrée\, Nîmes\, Gard\, 30000\, France
CATEGORIES:Expositions Temporaires
ATTACH;FMTTYPE=image/jpeg:https://actu.art/wp-content/uploads/2026/04/Tursic_Mille_Dissonances_a_geometries_variables.jpg
GEO:43.837948;4.356266
X-APPLE-STRUCTURED-LOCATION;VALUE=URI;X-ADDRESS=Carré d’Art – Musée d’Art Contemporain place de la Maison Carrée Nîmes Gard 30000 France;X-APPLE-RADIUS=500;X-TITLE=place de la Maison Carrée:geo:4.356266,43.837948
END:VEVENT
END:VCALENDAR