BEGIN:VCALENDAR
VERSION:2.0
PRODID:-//Actu.Art - ECPv6.15.13//NONSGML v1.0//EN
CALSCALE:GREGORIAN
METHOD:PUBLISH
X-WR-CALNAME:Actu.Art
X-ORIGINAL-URL:https://actu.art
X-WR-CALDESC:Évènements pour Actu.Art
BEGIN:VTIMEZONE
TZID:Europe/Paris
BEGIN:DAYLIGHT
TZOFFSETFROM:+0100
TZOFFSETTO:+0200
TZNAME:CEST
DTSTART:20190331T010000
END:DAYLIGHT
BEGIN:STANDARD
TZOFFSETFROM:+0200
TZOFFSETTO:+0100
TZNAME:CET
DTSTART:20191027T010000
END:STANDARD
BEGIN:DAYLIGHT
TZOFFSETFROM:+0100
TZOFFSETTO:+0200
TZNAME:CEST
DTSTART:20200329T010000
END:DAYLIGHT
BEGIN:STANDARD
TZOFFSETFROM:+0200
TZOFFSETTO:+0100
TZNAME:CET
DTSTART:20201025T010000
END:STANDARD
BEGIN:DAYLIGHT
TZOFFSETFROM:+0100
TZOFFSETTO:+0200
TZNAME:CEST
DTSTART:20210328T010000
END:DAYLIGHT
BEGIN:STANDARD
TZOFFSETFROM:+0200
TZOFFSETTO:+0100
TZNAME:CET
DTSTART:20211031T010000
END:STANDARD
BEGIN:DAYLIGHT
TZOFFSETFROM:+0100
TZOFFSETTO:+0200
TZNAME:CEST
DTSTART:20220327T010000
END:DAYLIGHT
BEGIN:STANDARD
TZOFFSETFROM:+0200
TZOFFSETTO:+0100
TZNAME:CET
DTSTART:20221030T010000
END:STANDARD
END:VTIMEZONE
BEGIN:VEVENT
DTSTART;TZID=Europe/Paris:20200313T100000
DTEND;TZID=Europe/Paris:20210111T203000
DTSTAMP:20260425T144430
CREATED:20191230T160949Z
LAST-MODIFIED:20201112T154422Z
UID:18042-1584093600-1610397000@actu.art
SUMMARY:Turner\, peintures et aquarelles
DESCRIPTION:En 2020\, le musée Jacquemart-André présente une grande rétrospective de Joseph Mallord William Turner (1775-1851). Incontestablement le plus grand représentant de l’âge d’or de l’aquarelle anglaise\, il exploita les effets de lumière et de transparence sur les paysages anglais ou les lagunes vénitiennes. Célébré par ses contemporains\, il continue aujourd’hui à émouvoir de nombreux admirateurs.\nCette exposition révèle le rôle qu’ont joué les aquarelles dans la vie et l’art de Turner\, des oeuvres de jeunesse qu’il envoya à la Royal Academy aux fascinantes expérimentations lumineuses et colorées de sa maturité. Pour un public moderne\, ces dernières comptent parmi ses oeuvres les plus radicales et accomplies.  \nGrâce à des prêts exceptionnels de la Tate Britain de Londres\, qui abrite la plus grande collection de Turner au monde\, le musée Jacquemart-André accueille une exposition de 60 aquarelles et quelque 10 peintures à l’huile\, dont certaines n’ont jamais été présentées en France. \nVisite Virtuelle de l’Exposition
URL:https://actu.art/event/turner/
LOCATION:Musée Jacquemart-André\, 158 Boulevard Haussmann\, Paris\, Paris\, 75008\, France
CATEGORIES:Expositions Virtuelles,Notre Sélection
ATTACH;FMTTYPE=image/jpeg:https://actu.art/wp-content/uploads/2019/12/Turner-565x800-1.jpg
GEO:48.8755529;2.3104223
X-APPLE-STRUCTURED-LOCATION;VALUE=URI;X-ADDRESS=Musée Jacquemart-André 158 Boulevard Haussmann Paris Paris 75008 France;X-APPLE-RADIUS=500;X-TITLE=158 Boulevard Haussmann:geo:2.3104223,48.8755529
END:VEVENT
END:VCALENDAR