BEGIN:VCALENDAR
VERSION:2.0
PRODID:-//Actu.Art - ECPv6.15.13//NONSGML v1.0//EN
CALSCALE:GREGORIAN
METHOD:PUBLISH
X-WR-CALNAME:Actu.Art
X-ORIGINAL-URL:https://actu.art
X-WR-CALDESC:Évènements pour Actu.Art
BEGIN:VTIMEZONE
TZID:Europe/Paris
BEGIN:DAYLIGHT
TZOFFSETFROM:+0100
TZOFFSETTO:+0200
TZNAME:CEST
DTSTART:20250330T010000
END:DAYLIGHT
BEGIN:STANDARD
TZOFFSETFROM:+0200
TZOFFSETTO:+0100
TZNAME:CET
DTSTART:20251026T010000
END:STANDARD
BEGIN:DAYLIGHT
TZOFFSETFROM:+0100
TZOFFSETTO:+0200
TZNAME:CEST
DTSTART:20260329T010000
END:DAYLIGHT
BEGIN:STANDARD
TZOFFSETFROM:+0200
TZOFFSETTO:+0100
TZNAME:CET
DTSTART:20261025T010000
END:STANDARD
BEGIN:DAYLIGHT
TZOFFSETFROM:+0100
TZOFFSETTO:+0200
TZNAME:CEST
DTSTART:20270328T010000
END:DAYLIGHT
BEGIN:STANDARD
TZOFFSETFROM:+0200
TZOFFSETTO:+0100
TZNAME:CET
DTSTART:20271031T010000
END:STANDARD
END:VTIMEZONE
BEGIN:VEVENT
DTSTART;TZID=Europe/Paris:20260402T143000
DTEND;TZID=Europe/Paris:20260509T180000
DTSTAMP:20260425T223807
CREATED:20260416T065614Z
LAST-MODIFIED:20260416T065614Z
UID:143113-1775140200-1778349600@actu.art
SUMMARY:Tu Récolteras la Tempête! (même sous un ciel bleu...)
DESCRIPTION:Photographies\, collages\, techniques mixtes. \nPar la diversité des formats et la cohérence des thématiques abordées\, l’exposition « Tu Récolteras la Tempête! » (même sous un ciel bleu…) invite le visiteur à une expérience de lecture attentive\, où l’intime devient un espace de projection et d’interprétation. Elle témoigne d’une démarche artistique ancrée dans l’exploration des affects et des représentations contemporaines de l’intime.
URL:https://actu.art/event/tu-recolteras-la-tempete-meme-sous-un-ciel-bleu/
LOCATION:Galerie Depardieu\, 6 Rue Du Docteur Jacques Guidoni\, Nice\, Alpes-Maritimes\, 06000\, France
CATEGORIES:Expositions Galeries
ATTACH;FMTTYPE=image/jpeg:https://actu.art/wp-content/uploads/2026/04/MoKo2026GalerieDepardieu.jpg
ORGANIZER;CN="galerie depardieu":MAILTO:galerie.depardieu@orange.fr
GEO:43.6983384;7.2717865
X-APPLE-STRUCTURED-LOCATION;VALUE=URI;X-ADDRESS=Galerie Depardieu 6 Rue Du Docteur Jacques Guidoni Nice Alpes-Maritimes 06000 France;X-APPLE-RADIUS=500;X-TITLE=6 Rue Du Docteur Jacques Guidoni:geo:7.2717865,43.6983384
END:VEVENT
END:VCALENDAR