BEGIN:VCALENDAR
VERSION:2.0
PRODID:-//Actu.Art - ECPv6.15.13//NONSGML v1.0//EN
CALSCALE:GREGORIAN
METHOD:PUBLISH
X-WR-CALNAME:Actu.Art
X-ORIGINAL-URL:https://actu.art
X-WR-CALDESC:Évènements pour Actu.Art
BEGIN:VTIMEZONE
TZID:Europe/Paris
BEGIN:DAYLIGHT
TZOFFSETFROM:+0100
TZOFFSETTO:+0200
TZNAME:CEST
DTSTART:20250330T010000
END:DAYLIGHT
BEGIN:STANDARD
TZOFFSETFROM:+0200
TZOFFSETTO:+0100
TZNAME:CET
DTSTART:20251026T010000
END:STANDARD
BEGIN:DAYLIGHT
TZOFFSETFROM:+0100
TZOFFSETTO:+0200
TZNAME:CEST
DTSTART:20260329T010000
END:DAYLIGHT
BEGIN:STANDARD
TZOFFSETFROM:+0200
TZOFFSETTO:+0100
TZNAME:CET
DTSTART:20261025T010000
END:STANDARD
BEGIN:DAYLIGHT
TZOFFSETFROM:+0100
TZOFFSETTO:+0200
TZNAME:CEST
DTSTART:20270328T010000
END:DAYLIGHT
BEGIN:STANDARD
TZOFFSETFROM:+0200
TZOFFSETTO:+0100
TZNAME:CET
DTSTART:20271031T010000
END:STANDARD
END:VTIMEZONE
BEGIN:VEVENT
DTSTART;VALUE=DATE:20260821
DTEND;VALUE=DATE:20260829
DTSTAMP:20260425T050239
CREATED:20260305T160401Z
LAST-MODIFIED:20260305T160401Z
UID:139012-1787270400-1787961599@actu.art
SUMMARY:Traits de famille
DESCRIPTION:Exposition de dessins\, origamis\, céramiques\, sculptures\, peintures. Atelier d’origami tous niveaux (informations et réservations au 06.52.28.14.65). Vernissage le samedi 22 août à 11h en musique avec une tombola.
URL:https://actu.art/event/traits-de-famille/
LOCATION:Salle d’exposition\, rue de la République\, Le Thor\, Vaucluse\, 84250\, France
CATEGORIES:Expositions
ATTACH;FMTTYPE=image/jpeg:https://actu.art/wp-content/uploads/2026/02/Traits_de_famille.jpg
GEO:43.928883;4.9951106
X-APPLE-STRUCTURED-LOCATION;VALUE=URI;X-ADDRESS=Salle d’exposition rue de la République Le Thor Vaucluse 84250 France;X-APPLE-RADIUS=500;X-TITLE=rue de la République:geo:4.9951106,43.928883
END:VEVENT
END:VCALENDAR