BEGIN:VCALENDAR
VERSION:2.0
PRODID:-//Actu.Art - ECPv6.15.13//NONSGML v1.0//EN
CALSCALE:GREGORIAN
METHOD:PUBLISH
X-WR-CALNAME:Actu.Art
X-ORIGINAL-URL:https://actu.art
X-WR-CALDESC:Évènements pour Actu.Art
BEGIN:VTIMEZONE
TZID:Europe/Paris
BEGIN:DAYLIGHT
TZOFFSETFROM:+0100
TZOFFSETTO:+0200
TZNAME:CEST
DTSTART:20240331T010000
END:DAYLIGHT
BEGIN:STANDARD
TZOFFSETFROM:+0200
TZOFFSETTO:+0100
TZNAME:CET
DTSTART:20241027T010000
END:STANDARD
BEGIN:DAYLIGHT
TZOFFSETFROM:+0100
TZOFFSETTO:+0200
TZNAME:CEST
DTSTART:20250330T010000
END:DAYLIGHT
BEGIN:STANDARD
TZOFFSETFROM:+0200
TZOFFSETTO:+0100
TZNAME:CET
DTSTART:20251026T010000
END:STANDARD
BEGIN:DAYLIGHT
TZOFFSETFROM:+0100
TZOFFSETTO:+0200
TZNAME:CEST
DTSTART:20260329T010000
END:DAYLIGHT
BEGIN:STANDARD
TZOFFSETFROM:+0200
TZOFFSETTO:+0100
TZNAME:CET
DTSTART:20261025T010000
END:STANDARD
END:VTIMEZONE
BEGIN:VEVENT
DTSTART;TZID=Europe/Paris:20251118T000000
DTEND;TZID=Europe/Paris:20251209T235900
DTSTAMP:20260424T101420
CREATED:20251118T133933Z
LAST-MODIFIED:20251118T133933Z
UID:133507-1763424000-1765324740@actu.art
SUMMARY:Tes yeux sur mes oreilles
DESCRIPTION:L’exposition Tes yeux sur mes oreilles propose un parcours sensoriel où le visiteur chemine parmi de grands portraits photographiques\, accompagné par les voix poétiques et intimes de personnes sourdes ou malentendantes. Ces témoignages sonores\, mis en scène avec délicatesse\, racontent des fragments de vie – de l’enfance sur les bancs de l’école aux défis du monde professionnel – et expriment la difficulté\, mais aussi la fierté\, d’exister dans un monde souvent sourd à la différence. \nEn regard du spectacle Goupil\nExposition conçue par l’association Droit Pluriel\nExposition au foyer bas
URL:https://actu.art/event/tes-yeux-sur-mes-oreilles/
LOCATION:La Lanterne\, 2 rue de la légion d'honneur\, Rambouillet\, Yvelines\, 78120
CATEGORIES:Expositions
ATTACH;FMTTYPE=image/jpeg:https://actu.art/wp-content/uploads/2025/11/Tes_yeux_sur_mes_oreilles.jpg
GEO:48.6470403;1.8230279
X-APPLE-STRUCTURED-LOCATION;VALUE=URI;X-ADDRESS=La Lanterne 2 rue de la légion d'honneur Rambouillet Yvelines 78120;X-APPLE-RADIUS=500;X-TITLE=2 rue de la légion d'honneur:geo:1.8230279,48.6470403
END:VEVENT
END:VCALENDAR