BEGIN:VCALENDAR
VERSION:2.0
PRODID:-//Actu.Art - ECPv6.15.13//NONSGML v1.0//EN
CALSCALE:GREGORIAN
METHOD:PUBLISH
X-WR-CALNAME:Actu.Art
X-ORIGINAL-URL:https://actu.art
X-WR-CALDESC:Évènements pour Actu.Art
BEGIN:VTIMEZONE
TZID:Europe/Paris
BEGIN:DAYLIGHT
TZOFFSETFROM:+0100
TZOFFSETTO:+0200
TZNAME:CEST
DTSTART:20240331T010000
END:DAYLIGHT
BEGIN:STANDARD
TZOFFSETFROM:+0200
TZOFFSETTO:+0100
TZNAME:CET
DTSTART:20241027T010000
END:STANDARD
BEGIN:DAYLIGHT
TZOFFSETFROM:+0100
TZOFFSETTO:+0200
TZNAME:CEST
DTSTART:20250330T010000
END:DAYLIGHT
BEGIN:STANDARD
TZOFFSETFROM:+0200
TZOFFSETTO:+0100
TZNAME:CET
DTSTART:20251026T010000
END:STANDARD
BEGIN:DAYLIGHT
TZOFFSETFROM:+0100
TZOFFSETTO:+0200
TZNAME:CEST
DTSTART:20260329T010000
END:DAYLIGHT
BEGIN:STANDARD
TZOFFSETFROM:+0200
TZOFFSETTO:+0100
TZNAME:CET
DTSTART:20261025T010000
END:STANDARD
END:VTIMEZONE
BEGIN:VEVENT
DTSTART;TZID=Europe/Paris:20250802T100000
DTEND;TZID=Europe/Paris:20250810T190000
DTSTAMP:20260424T141309
CREATED:20250708T183944Z
LAST-MODIFIED:20250708T183944Z
UID:123425-1754128800-1754852400@actu.art
SUMMARY:Symphonie des Couleurs
DESCRIPTION:Exposition Peintures et Estampes\nJean Claude Chambre
URL:https://actu.art/event/symphonie-des-couleurs/
LOCATION:Salle Le Temple\, 25 rue du Bout du Monde\, Venterol\, Drôme\, 26110\, France
CATEGORIES:Événements Artistiques locaux
GEO:44.3907255;5.0986537
X-APPLE-STRUCTURED-LOCATION;VALUE=URI;X-ADDRESS=Salle Le Temple 25 rue du Bout du Monde Venterol Drôme 26110 France;X-APPLE-RADIUS=500;X-TITLE=25 rue du Bout du Monde:geo:5.0986537,44.3907255
END:VEVENT
END:VCALENDAR