BEGIN:VCALENDAR
VERSION:2.0
PRODID:-//Actu.Art - ECPv6.15.13//NONSGML v1.0//EN
CALSCALE:GREGORIAN
METHOD:PUBLISH
X-WR-CALNAME:Actu.Art
X-ORIGINAL-URL:https://actu.art
X-WR-CALDESC:Évènements pour Actu.Art
BEGIN:VTIMEZONE
TZID:Europe/Paris
BEGIN:DAYLIGHT
TZOFFSETFROM:+0100
TZOFFSETTO:+0200
TZNAME:CEST
DTSTART:20210328T010000
END:DAYLIGHT
BEGIN:STANDARD
TZOFFSETFROM:+0200
TZOFFSETTO:+0100
TZNAME:CET
DTSTART:20211031T010000
END:STANDARD
BEGIN:DAYLIGHT
TZOFFSETFROM:+0100
TZOFFSETTO:+0200
TZNAME:CEST
DTSTART:20220327T010000
END:DAYLIGHT
BEGIN:STANDARD
TZOFFSETFROM:+0200
TZOFFSETTO:+0100
TZNAME:CET
DTSTART:20221030T010000
END:STANDARD
BEGIN:DAYLIGHT
TZOFFSETFROM:+0100
TZOFFSETTO:+0200
TZNAME:CEST
DTSTART:20230326T010000
END:DAYLIGHT
BEGIN:STANDARD
TZOFFSETFROM:+0200
TZOFFSETTO:+0100
TZNAME:CET
DTSTART:20231029T010000
END:STANDARD
BEGIN:DAYLIGHT
TZOFFSETFROM:+0100
TZOFFSETTO:+0200
TZNAME:CEST
DTSTART:20240331T010000
END:DAYLIGHT
BEGIN:STANDARD
TZOFFSETFROM:+0200
TZOFFSETTO:+0100
TZNAME:CET
DTSTART:20241027T010000
END:STANDARD
END:VTIMEZONE
BEGIN:VEVENT
DTSTART;TZID=Europe/Paris:20221124T090000
DTEND;TZID=Europe/Paris:20230306T180000
DTSTAMP:20260422T204912
CREATED:20220710T114157Z
LAST-MODIFIED:20230131T000301Z
UID:46332-1669280400-1678125600@actu.art
SUMMARY:Splendeurs des oasis d’Ouzbékistan
DESCRIPTION:L’Ouzbékistan est un carrefour de civilisations\, au cœur de l’Asie centrale. Les noms de Samarcande et de Boukhara y résonnent\, mais de nombreuses autres oasis marchandes du pays ont révélé des œuvres aujourd’hui classées patrimoine mondial de l’humanité. Le parcours d’exposition présente près de 180 œuvres. Une sélection de ces chefs-d’œuvre n’ont encore jamais quitté l’Ouzbékistan et ont spécialement été restaurés pour l’occasion. Un voyage dans l’espace et dans le temps\, au cœur de 16 siècles d’Histoire.
URL:https://actu.art/event/splendeurs-des-oasis-douzbekistan/
LOCATION:Musée du Louvre\, rue de Rivoli\, Paris 01\, Paris\, 75001\, France
CATEGORIES:Notre Sélection
ATTACH;FMTTYPE=image/jpeg:https://actu.art/wp-content/uploads/2022/07/Splendeurs-des-Oasis-dOuzbekistan.jpg
GEO:48.8557059;2.3589484
X-APPLE-STRUCTURED-LOCATION;VALUE=URI;X-ADDRESS=Musée du Louvre rue de Rivoli Paris 01 Paris 75001 France;X-APPLE-RADIUS=500;X-TITLE=rue de Rivoli:geo:2.3589484,48.8557059
END:VEVENT
END:VCALENDAR