BEGIN:VCALENDAR
VERSION:2.0
PRODID:-//Actu.Art - ECPv6.15.13//NONSGML v1.0//EN
CALSCALE:GREGORIAN
METHOD:PUBLISH
X-WR-CALNAME:Actu.Art
X-ORIGINAL-URL:https://actu.art
X-WR-CALDESC:Évènements pour Actu.Art
BEGIN:VTIMEZONE
TZID:Europe/Paris
BEGIN:DAYLIGHT
TZOFFSETFROM:+0100
TZOFFSETTO:+0200
TZNAME:CEST
DTSTART:20240331T010000
END:DAYLIGHT
BEGIN:STANDARD
TZOFFSETFROM:+0200
TZOFFSETTO:+0100
TZNAME:CET
DTSTART:20241027T010000
END:STANDARD
BEGIN:DAYLIGHT
TZOFFSETFROM:+0100
TZOFFSETTO:+0200
TZNAME:CEST
DTSTART:20250330T010000
END:DAYLIGHT
BEGIN:STANDARD
TZOFFSETFROM:+0200
TZOFFSETTO:+0100
TZNAME:CET
DTSTART:20251026T010000
END:STANDARD
BEGIN:DAYLIGHT
TZOFFSETFROM:+0100
TZOFFSETTO:+0200
TZNAME:CEST
DTSTART:20260329T010000
END:DAYLIGHT
BEGIN:STANDARD
TZOFFSETFROM:+0200
TZOFFSETTO:+0100
TZNAME:CET
DTSTART:20261025T010000
END:STANDARD
END:VTIMEZONE
BEGIN:VEVENT
DTSTART;VALUE=DATE:20250501
DTEND;VALUE=DATE:20250505
DTSTAMP:20260421T175440
CREATED:20250103T191107Z
LAST-MODIFIED:20250103T191339Z
UID:107594-1746057600-1746403199@actu.art
SUMMARY:Solid'Art 2025
DESCRIPTION:Avec le Secours populaire : Une œuvre achetée\, c’est un enfant qui part en vacances ! \nPour chaque édition de Solid’Art\, un artiste reconnu parraine l’événement (JonOne\, Hervé Di Rosa\, Jace\, L’Atlas\, Hom Nguyen\, …).  Cette année\, c’est l’artiste Jef Aérosol qui parraine cette quatrième édition parisienne. \nJef Aérosol  est un pionnier de l’art urbain en France\, vivant à Lille depuis 1984. En posant son premier pochoir à Tours en 1982\, il débute un parcours artistique qui le mène à peindre sur les murs du monde entier. Ses œuvres se distinguent par l’utilisation du noir et blanc\, accompagné de sa célèbre flèche rouge\, sa « marque de fabrique ». Inspiré par les icônes rock des années 60/70 et les anonymes de tous horizons\, il expose dans des galeries\, musées et festivals internationaux.. \n  » Solid’Art est une belle idée qui mets l’art au service d’une cause importante. Trop d’enfants ne quittent jamais leur quartier. Il est important que chacun d’entre nous\, à son échelle\, fasse un petit quelque chose pour aider le Secours Populaire à offrir à ces enfants quelques heures ou quelques jours de dépaysement\, de découverte\, de joie et de bonheur.« 
URL:https://actu.art/event/solidart-2025/
LOCATION:Carreau du Temple\, 4 rue Eugène Spuller\, Paris\, Paris\, 75003\, France
CATEGORIES:Marchés de l'Art/Salons
ATTACH;FMTTYPE=image/jpeg:https://actu.art/wp-content/uploads/2025/01/jeff-paris-solidart.jpg
GEO:48.864609;2.3623066
X-APPLE-STRUCTURED-LOCATION;VALUE=URI;X-ADDRESS=Carreau du Temple 4 rue Eugène Spuller Paris Paris 75003 France;X-APPLE-RADIUS=500;X-TITLE=4 rue Eugène Spuller:geo:2.3623066,48.864609
END:VEVENT
END:VCALENDAR