BEGIN:VCALENDAR
VERSION:2.0
PRODID:-//Actu.Art - ECPv6.15.13//NONSGML v1.0//EN
CALSCALE:GREGORIAN
METHOD:PUBLISH
X-WR-CALNAME:Actu.Art
X-ORIGINAL-URL:https://actu.art
X-WR-CALDESC:Évènements pour Actu.Art
BEGIN:VTIMEZONE
TZID:Europe/Paris
BEGIN:DAYLIGHT
TZOFFSETFROM:+0100
TZOFFSETTO:+0200
TZNAME:CEST
DTSTART:20210328T010000
END:DAYLIGHT
BEGIN:STANDARD
TZOFFSETFROM:+0200
TZOFFSETTO:+0100
TZNAME:CET
DTSTART:20211031T010000
END:STANDARD
BEGIN:DAYLIGHT
TZOFFSETFROM:+0100
TZOFFSETTO:+0200
TZNAME:CEST
DTSTART:20220327T010000
END:DAYLIGHT
BEGIN:STANDARD
TZOFFSETFROM:+0200
TZOFFSETTO:+0100
TZNAME:CET
DTSTART:20221030T010000
END:STANDARD
BEGIN:DAYLIGHT
TZOFFSETFROM:+0100
TZOFFSETTO:+0200
TZNAME:CEST
DTSTART:20230326T010000
END:DAYLIGHT
BEGIN:STANDARD
TZOFFSETFROM:+0200
TZOFFSETTO:+0100
TZNAME:CET
DTSTART:20231029T010000
END:STANDARD
END:VTIMEZONE
BEGIN:VEVENT
DTSTART;VALUE=DATE:20220518
DTEND;VALUE=DATE:20220830
DTSTAMP:20260424T130207
CREATED:20220305T223407Z
LAST-MODIFIED:20220826T072411Z
UID:42649-1652832000-1661817599@actu.art
SUMMARY:Simon Hantaï (1922-2008)
DESCRIPTION:Cette rétrospective\, organisée à l’occasion du centenaire de la naissance de Simon Hantaï (1922-2008)\, présente plus de 130 œuvres de ce dernier dont beaucoup n’ont encore jamais été exposées : des grands formats des années 1957 à 2000.\nLes influences artistiques décisives au développement de l’artiste sont mises en lumière à travers la présentation d’œuvres de Jackson Pollock et Henri Matisse. Ses relations d’amitié et de travail du début des années 1960 avec les jeunes artistes de son entourage\, Michel Parmentier et Daniel Buren\, sont également évoquées par des confrontations.
URL:https://actu.art/event/simon-hantai-1922-2008/
LOCATION:Fondation Louis Vuitton\, 8 avenue du Mahatma Gandhi Bois de Boulogne\, Paris 16e\, Paris\, 75016\, France
CATEGORIES:Notre Sélection
ATTACH;FMTTYPE=image/jpeg:https://actu.art/wp-content/uploads/2022/03/Simon-Hantai-1.jpg
GEO:48.8766484;2.2635254
X-APPLE-STRUCTURED-LOCATION;VALUE=URI;X-ADDRESS=Fondation Louis Vuitton 8 avenue du Mahatma Gandhi Bois de Boulogne Paris 16e Paris 75016 France;X-APPLE-RADIUS=500;X-TITLE=8 avenue du Mahatma Gandhi Bois de Boulogne:geo:2.2635254,48.8766484
END:VEVENT
END:VCALENDAR