BEGIN:VCALENDAR
VERSION:2.0
PRODID:-//Actu.Art - ECPv6.15.13//NONSGML v1.0//EN
CALSCALE:GREGORIAN
METHOD:PUBLISH
X-WR-CALNAME:Actu.Art
X-ORIGINAL-URL:https://actu.art
X-WR-CALDESC:Évènements pour Actu.Art
BEGIN:VTIMEZONE
TZID:Europe/Paris
BEGIN:DAYLIGHT
TZOFFSETFROM:+0100
TZOFFSETTO:+0200
TZNAME:CEST
DTSTART:20200329T010000
END:DAYLIGHT
BEGIN:STANDARD
TZOFFSETFROM:+0200
TZOFFSETTO:+0100
TZNAME:CET
DTSTART:20201025T010000
END:STANDARD
BEGIN:DAYLIGHT
TZOFFSETFROM:+0100
TZOFFSETTO:+0200
TZNAME:CEST
DTSTART:20210328T010000
END:DAYLIGHT
BEGIN:STANDARD
TZOFFSETFROM:+0200
TZOFFSETTO:+0100
TZNAME:CET
DTSTART:20211031T010000
END:STANDARD
BEGIN:DAYLIGHT
TZOFFSETFROM:+0100
TZOFFSETTO:+0200
TZNAME:CEST
DTSTART:20220327T010000
END:DAYLIGHT
BEGIN:STANDARD
TZOFFSETFROM:+0200
TZOFFSETTO:+0100
TZNAME:CET
DTSTART:20221030T010000
END:STANDARD
END:VTIMEZONE
BEGIN:VEVENT
DTSTART;TZID=Europe/Paris:20210326T100000
DTEND;TZID=Europe/Paris:20210719T180000
DTSTAMP:20260425T144427
CREATED:20201125T220353Z
LAST-MODIFIED:20210401T200853Z
UID:26687-1616752800-1626717600@actu.art
SUMMARY:Signac\, les harmonies colorées
DESCRIPTION:Paul Signac (1863-1935)\, maître du paysage et principal théoricien du divisionnisme\, est à l’honneur à travers un parcours composé d’une soixantaine d’œuvres issues d’une collection particulière. Aux côtés de 25 de ses toiles (Avant du Tub (1888)\, Saint-Briac. Les Balises (1890)…) et d’une douzaine d’aquarelles\, plus de 20 œuvres d’artistes comme Camille Pissarro\, Maximilen Luce ou encore Théo Van Rysselberghe sont à découvrir.
URL:https://actu.art/event/signac/
LOCATION:Musée Jacquemart-André\, 158 Boulevard Haussmann\, Paris\, Paris\, 75008\, France
CATEGORIES:Notre Sélection
ATTACH;FMTTYPE=image/jpeg:https://actu.art/wp-content/uploads/2020/11/Signac-Les-Harmonies-Colorees-565x800-1.jpg
GEO:48.8755529;2.3104223
X-APPLE-STRUCTURED-LOCATION;VALUE=URI;X-ADDRESS=Musée Jacquemart-André 158 Boulevard Haussmann Paris Paris 75008 France;X-APPLE-RADIUS=500;X-TITLE=158 Boulevard Haussmann:geo:2.3104223,48.8755529
END:VEVENT
END:VCALENDAR