BEGIN:VCALENDAR
VERSION:2.0
PRODID:-//Actu.Art - ECPv6.15.13//NONSGML v1.0//EN
CALSCALE:GREGORIAN
METHOD:PUBLISH
X-WR-CALNAME:Actu.Art
X-ORIGINAL-URL:https://actu.art
X-WR-CALDESC:Évènements pour Actu.Art
BEGIN:VTIMEZONE
TZID:Europe/Paris
BEGIN:DAYLIGHT
TZOFFSETFROM:+0100
TZOFFSETTO:+0200
TZNAME:CEST
DTSTART:20250330T010000
END:DAYLIGHT
BEGIN:STANDARD
TZOFFSETFROM:+0200
TZOFFSETTO:+0100
TZNAME:CET
DTSTART:20251026T010000
END:STANDARD
BEGIN:DAYLIGHT
TZOFFSETFROM:+0100
TZOFFSETTO:+0200
TZNAME:CEST
DTSTART:20260329T010000
END:DAYLIGHT
BEGIN:STANDARD
TZOFFSETFROM:+0200
TZOFFSETTO:+0100
TZNAME:CET
DTSTART:20261025T010000
END:STANDARD
BEGIN:DAYLIGHT
TZOFFSETFROM:+0100
TZOFFSETTO:+0200
TZNAME:CEST
DTSTART:20270328T010000
END:DAYLIGHT
BEGIN:STANDARD
TZOFFSETFROM:+0200
TZOFFSETTO:+0100
TZNAME:CET
DTSTART:20271031T010000
END:STANDARD
END:VTIMEZONE
BEGIN:VEVENT
DTSTART;TZID=Europe/Paris:20260425T100000
DTEND;TZID=Europe/Paris:20261101T180000
DTSTAMP:20260422T183958
CREATED:20260421T213443Z
LAST-MODIFIED:20260421T213443Z
UID:144212-1777111200-1793556000@actu.art
SUMMARY:Sea\, Pop and Sun
DESCRIPTION:La Fondation Carmignac présente Sea\, Pop & Sun\, une ode éclatante à la liberté et à la vitalité des années 1960 et 1970\, à travers l’invocation de l’esprit Pop. À la Villa Carmignac\, nichée entre les pins et la mer\, se déploie un Pop Art solaire\, sensuel et planant qui\, jusqu’à aujourd’hui\, continue de diffuser son énergie électrique.\nL’exposition revient sur un moment historique où l’émergence de nouveaux mouvements sociaux\, l’évolution des mœurs et l’essor de la société de loisirs ont profondément transformé la vie quotidienne et la culture visuelle.
URL:https://actu.art/event/sea-pop-and-sun/
LOCATION:Fondation Carmignac\, Piste de la Courtade\, Hyères\, Var\, 83400\, France
CATEGORIES:Expositions Temporaires
ATTACH;FMTTYPE=image/jpeg:https://actu.art/wp-content/uploads/2026/04/Sea_Pop_and_Sun.jpg
GEO:42.9996966;6.2094978
X-APPLE-STRUCTURED-LOCATION;VALUE=URI;X-ADDRESS=Fondation Carmignac Piste de la Courtade Hyères Var 83400 France;X-APPLE-RADIUS=500;X-TITLE=Piste de la Courtade:geo:6.2094978,42.9996966
END:VEVENT
END:VCALENDAR