BEGIN:VCALENDAR
VERSION:2.0
PRODID:-//Actu.Art - ECPv6.15.13//NONSGML v1.0//EN
CALSCALE:GREGORIAN
METHOD:PUBLISH
X-WR-CALNAME:Actu.Art
X-ORIGINAL-URL:https://actu.art
X-WR-CALDESC:Évènements pour Actu.Art
BEGIN:VTIMEZONE
TZID:Europe/Paris
BEGIN:DAYLIGHT
TZOFFSETFROM:+0100
TZOFFSETTO:+0200
TZNAME:CEST
DTSTART:20250330T010000
END:DAYLIGHT
BEGIN:STANDARD
TZOFFSETFROM:+0200
TZOFFSETTO:+0100
TZNAME:CET
DTSTART:20251026T010000
END:STANDARD
BEGIN:DAYLIGHT
TZOFFSETFROM:+0100
TZOFFSETTO:+0200
TZNAME:CEST
DTSTART:20260329T010000
END:DAYLIGHT
BEGIN:STANDARD
TZOFFSETFROM:+0200
TZOFFSETTO:+0100
TZNAME:CET
DTSTART:20261025T010000
END:STANDARD
BEGIN:DAYLIGHT
TZOFFSETFROM:+0100
TZOFFSETTO:+0200
TZNAME:CEST
DTSTART:20270328T010000
END:DAYLIGHT
BEGIN:STANDARD
TZOFFSETFROM:+0200
TZOFFSETTO:+0100
TZNAME:CET
DTSTART:20271031T010000
END:STANDARD
END:VTIMEZONE
BEGIN:VEVENT
DTSTART;TZID=Europe/Paris:20260425T000000
DTEND;TZID=Europe/Paris:20260503T000000
DTSTAMP:20260424T003633
CREATED:20260421T164131Z
LAST-MODIFIED:20260421T164131Z
UID:143905-1777075200-1777766400@actu.art
SUMMARY:Salon de printemps : exposition de sculptures et de peintures
DESCRIPTION:Venez découvrir cette belle exposition sur le thème :  » Hanami\, le Japon rêvé » mettant à l’honneur 2 : Laurence ALLART et Tonia MATTEUCCI ainsi qu’une dizaine d’artistes libres + 1 atelier peinture sculpture + les dessins des enfants des écoles + loterie.
URL:https://actu.art/event/salon-de-printemps-exposition-de-sculptures-et-de-peintures/
LOCATION:Domaine Revol\, rue Hector Revol\, Saint-Uze\, Drôme\, 26240\, France
CATEGORIES:Événements Artistiques locaux
ATTACH;FMTTYPE=image/jpeg:https://actu.art/wp-content/uploads/2026/04/Salon_de_printemps_exposition_de_sculptures_et_de_peintures.jpg
GEO:45.186672;4.862648
X-APPLE-STRUCTURED-LOCATION;VALUE=URI;X-ADDRESS=Domaine Revol rue Hector Revol Saint-Uze Drôme 26240 France;X-APPLE-RADIUS=500;X-TITLE=rue Hector Revol:geo:4.862648,45.186672
END:VEVENT
END:VCALENDAR