BEGIN:VCALENDAR
VERSION:2.0
PRODID:-//Actu.Art - ECPv6.15.13//NONSGML v1.0//EN
CALSCALE:GREGORIAN
METHOD:PUBLISH
X-WR-CALNAME:Actu.Art
X-ORIGINAL-URL:https://actu.art
X-WR-CALDESC:Évènements pour Actu.Art
BEGIN:VTIMEZONE
TZID:Europe/Paris
BEGIN:DAYLIGHT
TZOFFSETFROM:+0100
TZOFFSETTO:+0200
TZNAME:CEST
DTSTART:20240331T010000
END:DAYLIGHT
BEGIN:STANDARD
TZOFFSETFROM:+0200
TZOFFSETTO:+0100
TZNAME:CET
DTSTART:20241027T010000
END:STANDARD
BEGIN:DAYLIGHT
TZOFFSETFROM:+0100
TZOFFSETTO:+0200
TZNAME:CEST
DTSTART:20250330T010000
END:DAYLIGHT
BEGIN:STANDARD
TZOFFSETFROM:+0200
TZOFFSETTO:+0100
TZNAME:CET
DTSTART:20251026T010000
END:STANDARD
BEGIN:DAYLIGHT
TZOFFSETFROM:+0100
TZOFFSETTO:+0200
TZNAME:CEST
DTSTART:20260329T010000
END:DAYLIGHT
BEGIN:STANDARD
TZOFFSETFROM:+0200
TZOFFSETTO:+0100
TZNAME:CET
DTSTART:20261025T010000
END:STANDARD
END:VTIMEZONE
BEGIN:VEVENT
DTSTART;TZID=Europe/Paris:20250905T150000
DTEND;TZID=Europe/Paris:20250913T170000
DTSTAMP:20260419T151731
CREATED:20250908T164034Z
LAST-MODIFIED:20250908T164034Z
UID:128059-1757084400-1757782800@actu.art
SUMMARY:Salon de Peinture de Puyloubier
DESCRIPTION:Le Salon de Peinture de Puyloubier se déroule du 5 au 13 septembre 2025 sur le thème de « La Femme » / vernissage le vendredi 5 septembre à 18h30
URL:https://actu.art/event/salon-de-peinture-de-puyloubier/
LOCATION:Mairie de Puyloubier\, Square Jean Casanova\, Puyloubier\, Bouches-du-Rhône\, 13114
CATEGORIES:Expositions
ATTACH;FMTTYPE=image/jpeg:https://actu.art/wp-content/uploads/2025/09/Salon_de_Peinture_de_Puyloubier.jpg
GEO:43.5165445;5.6668306
X-APPLE-STRUCTURED-LOCATION;VALUE=URI;X-ADDRESS=Mairie de Puyloubier Square Jean Casanova Puyloubier Bouches-du-Rhône 13114;X-APPLE-RADIUS=500;X-TITLE=Square Jean Casanova:geo:5.6668306,43.5165445
END:VEVENT
END:VCALENDAR