BEGIN:VCALENDAR
VERSION:2.0
PRODID:-//Actu.Art - ECPv6.15.13//NONSGML v1.0//EN
CALSCALE:GREGORIAN
METHOD:PUBLISH
X-WR-CALNAME:Actu.Art
X-ORIGINAL-URL:https://actu.art
X-WR-CALDESC:Évènements pour Actu.Art
BEGIN:VTIMEZONE
TZID:Europe/Paris
BEGIN:DAYLIGHT
TZOFFSETFROM:+0100
TZOFFSETTO:+0200
TZNAME:CEST
DTSTART:20240331T010000
END:DAYLIGHT
BEGIN:STANDARD
TZOFFSETFROM:+0200
TZOFFSETTO:+0100
TZNAME:CET
DTSTART:20241027T010000
END:STANDARD
BEGIN:DAYLIGHT
TZOFFSETFROM:+0100
TZOFFSETTO:+0200
TZNAME:CEST
DTSTART:20250330T010000
END:DAYLIGHT
BEGIN:STANDARD
TZOFFSETFROM:+0200
TZOFFSETTO:+0100
TZNAME:CET
DTSTART:20251026T010000
END:STANDARD
BEGIN:DAYLIGHT
TZOFFSETFROM:+0100
TZOFFSETTO:+0200
TZNAME:CEST
DTSTART:20260329T010000
END:DAYLIGHT
BEGIN:STANDARD
TZOFFSETFROM:+0200
TZOFFSETTO:+0100
TZNAME:CET
DTSTART:20261025T010000
END:STANDARD
END:VTIMEZONE
BEGIN:VEVENT
DTSTART;TZID=Europe/Paris:20251103T080000
DTEND;TZID=Europe/Paris:20251123T210000
DTSTAMP:20260424T114721
CREATED:20250916T204054Z
LAST-MODIFIED:20250916T204537Z
UID:129182-1762156800-1763931600@actu.art
SUMMARY:Salon d'Automne de la Société des Beaux-Arts de Boulogne-Bilancourt
DESCRIPTION:La Société des Beaux-Arts de Boulogne-Billancourt (SBABB)\, avec le partenariat de la Mairie\, organise comme chaque année depuis 2015\, son Salon D’automne qui se déroulera du 3 au 23 novembre 2025 dans un lieu privilégié à l’Espace LANDOWSKI\, 28 Avenue André-Morizet 92100 Boulogne-Billancourt.\nCette exposition présentera 130 artistes\, peintres\, sculpteurs et photographes ainsi que les toiles de notre invité d’honneur\, Jean-François VAUTRIN\, qui évoqueront 50 ans de sa passion pour l’Amérique des Années 60 avec ses voitures\, ses Diners et ses buildings\, ses héros de bandes dessinées et le cinéma.\nComme les années précédentes\, des Prix seront décernés dans chaque discipline aux lauréats par la SBABB ainsi qu’un Prix du public. Enfin\, un Prix Marcel LOYAU\, fondateur de la SBABB\, d’un montant de 1000 € sera attribué lors du finissage de l’exposition au meilleur artiste du Salon. \nSalon d’automne de Boulogne-Billancourt\nDu 3 au 23 novembre 2024\nEntrée libre\, 7/7 jours\, de 8h à 21h \nVernissage le 4 novembre à partie de 18h30
URL:https://actu.art/event/salon-dautomne-de-la-societe-des-beaux-arts-de-boulogne-billancourt/
LOCATION:Espace Landowski\, 28 avenue André Morizet\, Boulogne-Billancourt\, Hauts-de-Seine\, 92100\, France
CATEGORIES:Expositions
ATTACH;FMTTYPE=image/jpeg:https://actu.art/wp-content/uploads/2025/09/SBABB-AFFICHE-2025-POUR-MEDIA.jpg
ORGANIZER;CN="SBABB":MAILTO:sbabb.comm@free.fr
GEO:48.8359627;2.2394477
X-APPLE-STRUCTURED-LOCATION;VALUE=URI;X-ADDRESS=Espace Landowski 28 avenue André Morizet Boulogne-Billancourt Hauts-de-Seine 92100 France;X-APPLE-RADIUS=500;X-TITLE=28 avenue André Morizet:geo:2.2394477,48.8359627
END:VEVENT
END:VCALENDAR