BEGIN:VCALENDAR
VERSION:2.0
PRODID:-//Actu.Art - ECPv6.15.13//NONSGML v1.0//EN
CALSCALE:GREGORIAN
METHOD:PUBLISH
X-WR-CALNAME:Actu.Art
X-ORIGINAL-URL:https://actu.art
X-WR-CALDESC:Évènements pour Actu.Art
BEGIN:VTIMEZONE
TZID:Europe/Paris
BEGIN:DAYLIGHT
TZOFFSETFROM:+0100
TZOFFSETTO:+0200
TZNAME:CEST
DTSTART:20240331T010000
END:DAYLIGHT
BEGIN:STANDARD
TZOFFSETFROM:+0200
TZOFFSETTO:+0100
TZNAME:CET
DTSTART:20241027T010000
END:STANDARD
BEGIN:DAYLIGHT
TZOFFSETFROM:+0100
TZOFFSETTO:+0200
TZNAME:CEST
DTSTART:20250330T010000
END:DAYLIGHT
BEGIN:STANDARD
TZOFFSETFROM:+0200
TZOFFSETTO:+0100
TZNAME:CET
DTSTART:20251026T010000
END:STANDARD
BEGIN:DAYLIGHT
TZOFFSETFROM:+0100
TZOFFSETTO:+0200
TZNAME:CEST
DTSTART:20260329T010000
END:DAYLIGHT
BEGIN:STANDARD
TZOFFSETFROM:+0200
TZOFFSETTO:+0100
TZNAME:CET
DTSTART:20261025T010000
END:STANDARD
END:VTIMEZONE
BEGIN:VEVENT
DTSTART;VALUE=DATE:20250404
DTEND;VALUE=DATE:20250405
DTSTAMP:20260423T032844
CREATED:20250214T135102Z
LAST-MODIFIED:20250403T091523Z
UID:109395-1743724800-1743811199@actu.art
SUMMARY:Salon Art Shopping
DESCRIPTION:Chers amis\, \nle prochain salon salon ART Sopping se déroulera les  \n4 (vernissage)\, 5\, et 6 avril au Carrousel du Louvre à Paris  \n  \nPour vous inscrire et recevoir votre invitation : Cliquez ici \nPour exposer (il reste peu de place) : Cliquez ici \n  \n150 galeries et artistes internationaux seront présents.\nTableaux\, sculptures\, dessins\, photos…\, prêts à être découverts\, voire emportés\, vous attendent. \n  \nSoyez sûrs de passer un bon week-end\, inscrivez vous dès maintenant. \nCordialement\,\nl’équipe Art Shopping.
URL:https://actu.art/event/salon-art-shopping/
LOCATION:Carrousel du Louvre\, 99 Rue de Rivoli\, Paris\, Paris\, 75001\, France
CATEGORIES:Marchés de l'Art/Salons
ATTACH;FMTTYPE=image/gif:https://actu.art/wp-content/uploads/2025/02/IMG_1359.gif
GEO:48.8617864;2.3340278
X-APPLE-STRUCTURED-LOCATION;VALUE=URI;X-ADDRESS=Carrousel du Louvre 99 Rue de Rivoli Paris Paris 75001 France;X-APPLE-RADIUS=500;X-TITLE=99 Rue de Rivoli:geo:2.3340278,48.8617864
END:VEVENT
END:VCALENDAR