BEGIN:VCALENDAR
VERSION:2.0
PRODID:-//Actu.Art - ECPv6.15.13//NONSGML v1.0//EN
CALSCALE:GREGORIAN
METHOD:PUBLISH
X-WR-CALNAME:Actu.Art
X-ORIGINAL-URL:https://actu.art
X-WR-CALDESC:Évènements pour Actu.Art
BEGIN:VTIMEZONE
TZID:Europe/Paris
BEGIN:DAYLIGHT
TZOFFSETFROM:+0100
TZOFFSETTO:+0200
TZNAME:CEST
DTSTART:20240331T010000
END:DAYLIGHT
BEGIN:STANDARD
TZOFFSETFROM:+0200
TZOFFSETTO:+0100
TZNAME:CET
DTSTART:20241027T010000
END:STANDARD
BEGIN:DAYLIGHT
TZOFFSETFROM:+0100
TZOFFSETTO:+0200
TZNAME:CEST
DTSTART:20250330T010000
END:DAYLIGHT
BEGIN:STANDARD
TZOFFSETFROM:+0200
TZOFFSETTO:+0100
TZNAME:CET
DTSTART:20251026T010000
END:STANDARD
BEGIN:DAYLIGHT
TZOFFSETFROM:+0100
TZOFFSETTO:+0200
TZNAME:CEST
DTSTART:20260329T010000
END:DAYLIGHT
BEGIN:STANDARD
TZOFFSETFROM:+0200
TZOFFSETTO:+0100
TZNAME:CET
DTSTART:20261025T010000
END:STANDARD
END:VTIMEZONE
BEGIN:VEVENT
DTSTART;TZID=Europe/Paris:20250701T090000
DTEND;TZID=Europe/Paris:20250730T170000
DTSTAMP:20260421T152625
CREATED:20250703T212219Z
LAST-MODIFIED:20250703T212219Z
UID:122550-1751360400-1753894800@actu.art
SUMMARY:SAISON DES ARTS Peinture abstraite et sculpture sur bois
DESCRIPTION:Joëlle Caumes\, peintre\, et Eddy Penin\, sculpteur\, exposent à la maison du tourisme de Bellenaves.
URL:https://actu.art/event/saison-des-arts-peinture-abstraite-et-sculpture-sur-bois/
LOCATION:Point d’informations touristiques de Bellenaves\, 8 Grande rue\, Bellenaves\, Allier\, 03330\, France
CATEGORIES:Expositions
ATTACH;FMTTYPE=image/jpeg:https://actu.art/wp-content/uploads/2025/07/SAISON_DES_ARTS_Peinture_abstraite_et_sculpture_sur_bois.jpg
GEO:46.199309;3.0791116
X-APPLE-STRUCTURED-LOCATION;VALUE=URI;X-ADDRESS=Point d’informations touristiques de Bellenaves 8 Grande rue Bellenaves Allier 03330 France;X-APPLE-RADIUS=500;X-TITLE=8 Grande rue:geo:3.0791116,46.199309
END:VEVENT
END:VCALENDAR