BEGIN:VCALENDAR
VERSION:2.0
PRODID:-//Actu.Art - ECPv6.15.13//NONSGML v1.0//EN
CALSCALE:GREGORIAN
METHOD:PUBLISH
X-WR-CALNAME:Actu.Art
X-ORIGINAL-URL:https://actu.art
X-WR-CALDESC:Évènements pour Actu.Art
BEGIN:VTIMEZONE
TZID:Europe/Paris
BEGIN:DAYLIGHT
TZOFFSETFROM:+0100
TZOFFSETTO:+0200
TZNAME:CEST
DTSTART:20210328T010000
END:DAYLIGHT
BEGIN:STANDARD
TZOFFSETFROM:+0200
TZOFFSETTO:+0100
TZNAME:CET
DTSTART:20211031T010000
END:STANDARD
BEGIN:DAYLIGHT
TZOFFSETFROM:+0100
TZOFFSETTO:+0200
TZNAME:CEST
DTSTART:20220327T010000
END:DAYLIGHT
BEGIN:STANDARD
TZOFFSETFROM:+0200
TZOFFSETTO:+0100
TZNAME:CET
DTSTART:20221030T010000
END:STANDARD
BEGIN:DAYLIGHT
TZOFFSETFROM:+0100
TZOFFSETTO:+0200
TZNAME:CEST
DTSTART:20230326T010000
END:DAYLIGHT
BEGIN:STANDARD
TZOFFSETFROM:+0200
TZOFFSETTO:+0100
TZNAME:CET
DTSTART:20231029T010000
END:STANDARD
BEGIN:DAYLIGHT
TZOFFSETFROM:+0100
TZOFFSETTO:+0200
TZNAME:CEST
DTSTART:20240331T010000
END:DAYLIGHT
BEGIN:STANDARD
TZOFFSETFROM:+0200
TZOFFSETTO:+0100
TZNAME:CET
DTSTART:20241027T010000
END:STANDARD
END:VTIMEZONE
BEGIN:VEVENT
DTSTART;TZID=Europe/Paris:20221018T093000
DTEND;TZID=Europe/Paris:20230115T180000
DTSTAMP:20260423T074648
CREATED:20220101T165900Z
LAST-MODIFIED:20230101T170555Z
UID:41072-1666085400-1673805600@actu.art
SUMMARY:Rosa Bonheur (1822-1899)
DESCRIPTION:À l’occasion du bicentenaire de la naissance de Rosa Bonheur à Bordeaux\, le musée des Beaux-Arts de sa ville natale et le musée d’Orsay\, Paris\, organisent une importante rétrospective de son œuvre. Le Château Musée Rosa Bonheur à Thomery (Seine-et-Marne)\, où l’artiste vécut près d’un demi-siècle\, ainsi que le Musée départemental des peintres de Barbizon sont les partenaires exceptionnels de l’exposition.\n\n\n\n\n\n\nÉvènement majeur sur le plan national et international\, cette exposition met à l’honneur une artiste hors norme\, novatrice et inspirante\, Rosa Bonheur. Cette artiste connue comme icône de l’émancipation des femmes plaça le monde vivant au cœur de son travail et de son existence. Elle s’engagea pour la reconnaissance des animaux dans leur singularité et chercha par son travail à exprimer leur vitalité et leur « âme ». Par sa grande maîtrise technique\, elle sut restituer à la fois l’anatomie et la psychologie animales. \nCette exposition permet de faire (re)découvrir au public la puissance et la richesse de son œuvre\, en rassemblant et choisissant dans l’immense corpus de l’artiste une sélection exigeante d’environ 200 œuvres (peintures\, arts graphiques\, sculptures\, photographies) issues des plus prestigieuses collections publiques et privées d’Europe et des États-Unis. \nLa richesse du monde vivant\nIssue d’une famille d’artistes\, Rosa Bonheur réalisa une œuvre abondante\, fruit de sa cohabitation quotidienne avec les animaux\, dans ses ateliers successifs et sur le terrain. Au cours de ses voyages\, en Auvergne\, dans le Nivernais\, dans les Pyrénées\, ainsi qu’en Écosse\, elle montre une curiosité insatiable pour la diversité des espèces et leur biotope. Elle est également fascinée par la beauté sauvage des grands espaces de l’Ouest américain\, et de ses habitants\, humains ou non\, même si elle ne put jamais s’y rendre. L’artiste prit un grand plaisir à représenter Buffalo Bill et tous les acteurs du Wild West Show en 1889. \nLe regard qu’elle porte sur le monde qui l’entoure témoigne d’une vision exceptionnelle de la flore comme de la faune. Fascinée par les animaux\, Rosa Bonheur avait rassemblé autour d’elle\, dans sa propriété de By\, une formidable ménagerie\, comptant des dizaines d’espèces différentes\, où se côtoyaient notamment chiens\, cerfs et fauves. Plaçant les animaux au cœur de sa création artistique au sein de spectaculaires compositions ou en les isolant dans de véritables portraits\, Rosa Bonheur sut créer une œuvre expressive\, dénuée de sentimentalisme et d’un extraordinaire réalisme\, nourrie des découvertes scientifiques et de l’attention nouvelle portée aux espèces animales des terroirs et à la zootechnie. \nL’exposition joue sur les ruptures d’échelles\, l’artiste ayant peint de très petits formats ou au contraire des œuvres monumentales\, le plus souvent panoramiques et dynamiques\, tout autant que des portraits en pied d’animaux. C’est ainsi que Rosa Bonheur dépeint la majesté du cerf du Roi de la forêt (Collection particulière\, USA)\, des bœufs travailleurs de la terre dans le célèbre Labourage Nivernais (musée d’Orsay) ou encore la beauté et l’énergie de chevaux à demi sauvages dans La Foulaison du blé en Camargue (Musée des Beaux-Arts de Bordeaux). L’artiste énonce leur appartenance au monde rural tout en exaltant leur force tellurique. \nRosa Bonheur\, une artiste hors du commun\nCélébrée dès son vivant des deux côtés de l’Atlantique\, cette personnalité fascinante\, dont l’exposition se propose de dévoiler des aspects peu explorés\, voire méconnus\, sut s’imposer aussi bien en tant que femme libre que comme artiste officiellement reconnue dans un siècle très corseté. Première femme artiste à recevoir la Légion d’honneur\, Rosa Bonheur a su s’associer aux marchands et collectionneurs les plus éminents pour dominer le marché de l’art et conquérir son indépendance financière et morale. Véritable « star » en son temps\,  elle organisa sa vie autour de son travail et de la quête incessante de perfectionnement\, accompagnée en particulier de son amie Nathalie Micas\, qui vécut à ses côtés plus de cinquante ans et participa à sa création. La conservation de son atelier et de ses archives est le résultat de l’engagement de sa « sœur de pinceau »\, la peintre américaine Anna Klumpke\, qui vécut au château de By durant les dernières années de la vie de l’artiste. \nRosa Bonheur fut rapidement perçue comme un modèle à suivre dans la quête d’indépendance des femmes\, et des artistes plus particulièrement. Articles et revues\, françaises\, mais surtout anglaises ou américaines\, témoignent de cette force inspiratrice pour les générations futures. La diffusion de l’image de l’artiste fut telle\, qu’en plus de nombreux portraits peints\, photographiés\, ou gravés\, l’œuvre de Rosa Bonheur tout comme son portrait\, devinrent le sujet de ce que l’on appellerait aujourd’hui des « produits dérivés ». A côté de l’image publique\, seront révélés des aspects plus insolites de l’artiste\, à travers des objets insolites destinés à une sphère privée (peintures sur galets\, sculptures de marrons\, caricatures …). \nC’est par son travail que Rosa Bonheur parvint avant tout à s’imposer comme l’artiste aux œuvres les plus chères de son temps. L’une des originalités de l’exposition consiste à présenter une importante sélection d’études et d’esquisses peintes et dessinées\, permettant d’apprécier la part du travail\, qui passe par le dessin\, dans le processus créatif de l’artiste\, virtuose et exigeante. Parmi les récentes découvertes\, un dessin sur toile de plus de 4\,50 de long provenant du château de By sera montré au public pour la première fois. \nUne œuvre qui résonne encore aujourd’hui\n200 ans après sa naissance\, l’art et la personnalité de Rosa Bonheur font résonner de nombreuses questions sociétales plus que jamais d’actualité : la place des femmes dans l’art et la société\, la cause animale et sa place dans la ruralité et l’écologie. \nDépassant de loin les clichés qu’elle a contribué à construire\, Rosa Bonheur s’avère avant tout une grande créatrice\, qui mérite d’être (re)découverte comme telle. \nL’exposition est accompagnée d’un catalogue qui est la première publication scientifique visant à donner une vision d’ensemble des multiples aspects de l’œuvre de Rosa Bonheur. \nCette exposition est organisée par les musées d’Orsay et de l’Orangerie\, Paris et le musée des Beaux-Arts de Bordeaux en partenariat exceptionnel avec le Château- musée Rosa Bonheur. L’exposition sera présentée au musée des Beaux-arts de Bordeaux du 18 mai au 18 septembre 2022.
URL:https://actu.art/event/rosa-bonheur-1822-1899/
LOCATION:Musée d’Orsay\, Esplanade Valéry Giscard d'Estaing\, Paris\, Paris\, 75007\, France
CATEGORIES:Notre Sélection
ATTACH;FMTTYPE=image/jpeg:https://actu.art/wp-content/uploads/2022/01/Rosa-Bonheur-Orsay.jpg
GEO:48.8601715;2.326074
X-APPLE-STRUCTURED-LOCATION;VALUE=URI;X-ADDRESS=Musée d’Orsay Esplanade Valéry Giscard d'Estaing Paris Paris 75007 France;X-APPLE-RADIUS=500;X-TITLE=Esplanade Valéry Giscard d'Estaing:geo:2.326074,48.8601715
END:VEVENT
END:VCALENDAR