BEGIN:VCALENDAR
VERSION:2.0
PRODID:-//Actu.Art - ECPv6.15.13//NONSGML v1.0//EN
CALSCALE:GREGORIAN
METHOD:PUBLISH
X-WR-CALNAME:Actu.Art
X-ORIGINAL-URL:https://actu.art
X-WR-CALDESC:Évènements pour Actu.Art
BEGIN:VTIMEZONE
TZID:Europe/Paris
BEGIN:DAYLIGHT
TZOFFSETFROM:+0100
TZOFFSETTO:+0200
TZNAME:CEST
DTSTART:20240331T010000
END:DAYLIGHT
BEGIN:STANDARD
TZOFFSETFROM:+0200
TZOFFSETTO:+0100
TZNAME:CET
DTSTART:20241027T010000
END:STANDARD
BEGIN:DAYLIGHT
TZOFFSETFROM:+0100
TZOFFSETTO:+0200
TZNAME:CEST
DTSTART:20250330T010000
END:DAYLIGHT
BEGIN:STANDARD
TZOFFSETFROM:+0200
TZOFFSETTO:+0100
TZNAME:CET
DTSTART:20251026T010000
END:STANDARD
BEGIN:DAYLIGHT
TZOFFSETFROM:+0100
TZOFFSETTO:+0200
TZNAME:CEST
DTSTART:20260329T010000
END:DAYLIGHT
BEGIN:STANDARD
TZOFFSETFROM:+0200
TZOFFSETTO:+0100
TZNAME:CET
DTSTART:20261025T010000
END:STANDARD
END:VTIMEZONE
BEGIN:VEVENT
DTSTART;TZID=Europe/Paris:20250430T110000
DTEND;TZID=Europe/Paris:20251012T190000
DTSTAMP:20260421T215505
CREATED:20250501T171312Z
LAST-MODIFIED:20250501T171312Z
UID:116656-1746010800-1760295600@actu.art
SUMMARY:Richard Avedon : In the American West
DESCRIPTION:À l’occasion du 40e anniversaire de l’ouvrage iconique de Richard Avedon\, In the American West\, la Fondation Henri Cartier-Bresson présente\, en collaboration avec la Richard Avedon Foundation\, une exposition exceptionnelle entièrement dédiée à cette série emblématique. \nEntre 1979 et 1984\, à la demande de l’Amon Carter Museum of American Art de Fort Worth au Texas\, Richard Avedon sillonne l’Ouest américain et photographie plus de 1\,000 de ses habitants. Pendant cinq années\, Avedon fait défiler\, devant l’objectif de sa chambre photographique\, mineurs\, bouviers\, forains\, vendeurs et passants\, parmi d’autres personnes à l’histoire riche\, seuls ou en petits groupes\, sur un fond blanc qui sublime leurs traits\, leurs postures et leurs expressions. Il dresse ainsi un portrait saisissant de cette région et de ses résidents\, à rebours des représentations traditionnelles et glorifications du mythe de l’Ouest américain. La grande force des 103 oeuvres qui composent la série finale et l’ouvrage du même nom font d’In the American West un moment charnière dans l’oeuvre d’Avedon et un jalon majeur dans l’histoire du portrait photographique. \nL’exposition de la Fondation Henri Cartier-Bresson du 30 avril au 12 octobre 2025 présente pour la toute première fois en Europe l’intégralité des images qui figurent dans l’ouvrage original. Invitant le public à découvrir l’ensemble mais aussi à suivre des étapes de sa production et de sa réception\, la Fondation présente une sélection complète des tirages des graveurs ayant servi de référence pour l’exposition et pour l’impression du livre original de 1985 aux côtés de documents inédits : polaroids préparatoires\, tirages tests annotés de la main du photographe\, échanges épistolaires entre l’artiste et ses modèles. \nÀ l’occasion de cet anniversaire\, Abrams\, l’éditeur de l’ouvrage original\, réédite le livre depuis longtemps épuisé. \nCommissaire de l’exposition\nClément Chéroux\nDirecteur de la Fondation Henri Cartier-Bresson
URL:https://actu.art/event/richard-avedon-in-the-american-west-2/
LOCATION:Fondation Henri Cartier-Bresson\, 79 Rue des Archives\, Paris 03\, Paris\, 75003\, France
CATEGORIES:Expositions
ATTACH;FMTTYPE=image/jpeg:https://actu.art/wp-content/uploads/2025/05/Richard_Avedon_In_the_American_West.jpg
GEO:48.863207;2.3600394
X-APPLE-STRUCTURED-LOCATION;VALUE=URI;X-ADDRESS=Fondation Henri Cartier-Bresson 79 Rue des Archives Paris 03 Paris 75003 France;X-APPLE-RADIUS=500;X-TITLE=79 Rue des Archives:geo:2.3600394,48.863207
END:VEVENT
END:VCALENDAR