BEGIN:VCALENDAR
VERSION:2.0
PRODID:-//Actu.Art - ECPv6.15.13//NONSGML v1.0//EN
CALSCALE:GREGORIAN
METHOD:PUBLISH
X-WR-CALNAME:Actu.Art
X-ORIGINAL-URL:https://actu.art
X-WR-CALDESC:Évènements pour Actu.Art
BEGIN:VTIMEZONE
TZID:Europe/Paris
BEGIN:DAYLIGHT
TZOFFSETFROM:+0100
TZOFFSETTO:+0200
TZNAME:CEST
DTSTART:20240331T010000
END:DAYLIGHT
BEGIN:STANDARD
TZOFFSETFROM:+0200
TZOFFSETTO:+0100
TZNAME:CET
DTSTART:20241027T010000
END:STANDARD
BEGIN:DAYLIGHT
TZOFFSETFROM:+0100
TZOFFSETTO:+0200
TZNAME:CEST
DTSTART:20250330T010000
END:DAYLIGHT
BEGIN:STANDARD
TZOFFSETFROM:+0200
TZOFFSETTO:+0100
TZNAME:CET
DTSTART:20251026T010000
END:STANDARD
BEGIN:DAYLIGHT
TZOFFSETFROM:+0100
TZOFFSETTO:+0200
TZNAME:CEST
DTSTART:20260329T010000
END:DAYLIGHT
BEGIN:STANDARD
TZOFFSETFROM:+0200
TZOFFSETTO:+0100
TZNAME:CET
DTSTART:20261025T010000
END:STANDARD
END:VTIMEZONE
BEGIN:VEVENT
DTSTART;VALUE=DATE:20250625
DTEND;VALUE=DATE:20250901
DTSTAMP:20260420T115936
CREATED:20250706T204013Z
LAST-MODIFIED:20250706T204013Z
UID:122340-1750809600-1756684799@actu.art
SUMMARY:Résidence d’artiste – Yuri Cardinal et Florian Stéphant à Superflux
DESCRIPTION:Venez rencontrer ou simplement découvrir le travail des artistes dans leurs ateliers.\nYuri Cardinal sera installé au Labo 10. Depuis ses débuts en 1997\, sous le pseudonyme de Yuri Cardinal\, Éric Le Vergé explore l’art post-internet\, un champ où se mêlent appropriation\, détournement et réflexion sur les grands enjeux contemporains : information\, surveillance\, écologie et géopolitique. Cette résidence à Superflux sera l’occasion pour lui de tisser des liens entre la musique et les arts plastiques\, deux domaines essentiels de son parcours. Yuri Cardinal nous dévoile ainsi son projet : « Dans le cadre de cette résidence\, je souhaite approfondir l’interaction entre arts visuels et sonores\, en m’inspirant des multiples échanges et influences propres à l’univers de Superflux. Mon travail prendra la forme d’une exploration pluridisciplinaire entre installations visuelles et expérimentations sonores\, où chaque geste créatif tissera un lien avec le lieu et ses contextes. »\nFlorian Stéphant investira le Studio 25. Graphiste\, vidéaste et musicien\, Florian Stéphant explore les relations entre image\, son et texte dans ses créations. Au cours de cette résidence\, il propose une expérience immersive où le son et l’image se répondront et se confronteront. Il nous partage son projet : « À Bazouges-la-Pérouse\, je réaliserai des enregistrements sonores\, que je diffuserai à l’aide d’un magnétophone à bande. Le fil magnétique\, en mouvement constant sur les murs\, parcourra l’espace de l’exposition et se reliera à des dessins et des mots\, créant un dialogue visuel et sonore. Chaque segment de bande\, en se déplaçant sur ce parcours\, viendra enrichir l’imaginaire de l’audience en jouant sur le rapport entre le son\, l’image et le contexte. »\nLes ateliers des artistes et les espaces d’exposition seront ouverts au public les samedis et dimanches de 15h à 18h.\nPot de départ de fin de résidence des artistes : le dimanche 31 août à 12h.\nTout public – Gratuit
URL:https://actu.art/event/residence-dartiste-yuri-cardinal-et-florian-stephant-a-superflux/
LOCATION:Labo 10 et Studio 25\, Rue de l'Église 25\, Bazouges-la-Pérouse\, Ille-et-Vilaine\, 35560\, France
CATEGORIES:Expositions
GEO:48.4255836;-1.5745567
X-APPLE-STRUCTURED-LOCATION;VALUE=URI;X-ADDRESS=Labo 10 et Studio 25 Rue de l'Église 25 Bazouges-la-Pérouse Ille-et-Vilaine 35560 France;X-APPLE-RADIUS=500;X-TITLE=Rue de l'Église 25:geo:-1.5745567,48.4255836
END:VEVENT
END:VCALENDAR