BEGIN:VCALENDAR
VERSION:2.0
PRODID:-//Actu.Art - ECPv6.15.13//NONSGML v1.0//EN
CALSCALE:GREGORIAN
METHOD:PUBLISH
X-WR-CALNAME:Actu.Art
X-ORIGINAL-URL:https://actu.art
X-WR-CALDESC:Évènements pour Actu.Art
BEGIN:VTIMEZONE
TZID:Europe/Paris
BEGIN:DAYLIGHT
TZOFFSETFROM:+0100
TZOFFSETTO:+0200
TZNAME:CEST
DTSTART:20240331T010000
END:DAYLIGHT
BEGIN:STANDARD
TZOFFSETFROM:+0200
TZOFFSETTO:+0100
TZNAME:CET
DTSTART:20241027T010000
END:STANDARD
BEGIN:DAYLIGHT
TZOFFSETFROM:+0100
TZOFFSETTO:+0200
TZNAME:CEST
DTSTART:20250330T010000
END:DAYLIGHT
BEGIN:STANDARD
TZOFFSETFROM:+0200
TZOFFSETTO:+0100
TZNAME:CET
DTSTART:20251026T010000
END:STANDARD
BEGIN:DAYLIGHT
TZOFFSETFROM:+0100
TZOFFSETTO:+0200
TZNAME:CEST
DTSTART:20260329T010000
END:DAYLIGHT
BEGIN:STANDARD
TZOFFSETFROM:+0200
TZOFFSETTO:+0100
TZNAME:CET
DTSTART:20261025T010000
END:STANDARD
END:VTIMEZONE
BEGIN:VEVENT
DTSTART;TZID=Europe/Paris:20251003T100000
DTEND;TZID=Europe/Paris:20251005T180000
DTSTAMP:20260424T174032
CREATED:20250906T204832Z
LAST-MODIFIED:20250906T204832Z
UID:127830-1759485600-1759687200@actu.art
SUMMARY:Rencontres photographiques du Prieuré
DESCRIPTION:Pendant trois jours\, les visiteurs pourront découvrir les œuvres de 13 photographes venus de toute la France. Chaque exposition propose un univers singulier\, allant du portrait au voyage\, du paysage au travail expérimental.
URL:https://actu.art/event/rencontres-photographiques-du-prieure/
LOCATION:Le Prieuré\, chemin du Châtet\, Salaise-sur-Sanne\, 38150
CATEGORIES:Expositions
ATTACH;FMTTYPE=image/jpeg:https://actu.art/wp-content/uploads/2025/09/Rencontres_photographiques_du_Prieure.jpg
GEO:45.064332;1.16138
X-APPLE-STRUCTURED-LOCATION;VALUE=URI;X-ADDRESS=Le Prieuré chemin du Châtet Salaise-sur-Sanne 38150;X-APPLE-RADIUS=500;X-TITLE=chemin du Châtet:geo:1.16138,45.064332
END:VEVENT
END:VCALENDAR