BEGIN:VCALENDAR
VERSION:2.0
PRODID:-//Actu.Art - ECPv6.15.13//NONSGML v1.0//EN
CALSCALE:GREGORIAN
METHOD:PUBLISH
X-WR-CALNAME:Actu.Art
X-ORIGINAL-URL:https://actu.art
X-WR-CALDESC:Évènements pour Actu.Art
BEGIN:VTIMEZONE
TZID:Europe/Paris
BEGIN:DAYLIGHT
TZOFFSETFROM:+0100
TZOFFSETTO:+0200
TZNAME:CEST
DTSTART:20190331T010000
END:DAYLIGHT
BEGIN:STANDARD
TZOFFSETFROM:+0200
TZOFFSETTO:+0100
TZNAME:CET
DTSTART:20191027T010000
END:STANDARD
BEGIN:DAYLIGHT
TZOFFSETFROM:+0100
TZOFFSETTO:+0200
TZNAME:CEST
DTSTART:20200329T010000
END:DAYLIGHT
BEGIN:STANDARD
TZOFFSETFROM:+0200
TZOFFSETTO:+0100
TZNAME:CET
DTSTART:20201025T010000
END:STANDARD
BEGIN:DAYLIGHT
TZOFFSETFROM:+0100
TZOFFSETTO:+0200
TZNAME:CEST
DTSTART:20210328T010000
END:DAYLIGHT
BEGIN:STANDARD
TZOFFSETFROM:+0200
TZOFFSETTO:+0100
TZNAME:CET
DTSTART:20211031T010000
END:STANDARD
END:VTIMEZONE
BEGIN:VEVENT
DTSTART;TZID=Europe/Paris:20200615T100000
DTEND;TZID=Europe/Paris:20200830T180000
DTSTAMP:20260425T053104
CREATED:20200609T211635Z
LAST-MODIFIED:20200909T172219Z
UID:22048-1592215200-1598810400@actu.art
SUMMARY:Reflets d'une collection
DESCRIPTION:“Reflets d’une collection” propose aux visiteurs du musée des impressionnismes Giverny de découvrir sa collection\, qui ne cesse de s’enrichir. Elle s’étend de l’impressionnisme de Gustave Caillebotte au postimpressionnisme de Pierre Bonnard\, de la peinture de Joan Mitchell à la délicate poésie de Hiramatsu Reiji. Le musée souhaite ainsi témoigner de l’influence de l’impressionnisme jusqu’à la création la plus actuelle. \nUne collection enrichie par les dons d’oeuvres\nDepuis sa création en 2009\, le musée des impressionnismes Giverny s’attache à faire découvrir au public l’impressionnisme au sens large. Au travers de ses expositions\, il montre ainsi ses prémices\, ses déclinaisons et son impact sur l’art moderne et contemporain. Parallèlement\, il développe une collection qui\, centrée sur l’impressionnisme\, le postimpressionnisme et ses suites\, bénéficie de la générosité d’importants donateurs. \nParmi eux\, Claire Denis\, petite-fille du peintre nabi Maurice Denis\, le photographe Henri Foucault\, le peintre japonais Hiramatsu Reiji\, Charlotte Hellman\, arrière-petite-fille de l’artiste pointilliste Paul Signac\, ou encore Monsieur et Madame Quentin\, les héritiers du peintre Jean Francis Auburtin\, ont contribué à l’enrichissement de la collection du musée. En dix ans\, il a ainsi pu acquérir 148 œuvres\, hors dépôt : peintures\, dessins et photographies\, ainsi que 28 lettres autographes. \nDes dépôts d’œuvres pour compléter la collection\nAux nombreux dons s’ajoutent des dépôts d’œuvres de Philippe Piguet\, arrière-petit-fils de Claude Monet\, du photographe Bernard Plossu\, du Fonds Régional d’Art Contemporain Normandie Rouen\, de la collection Fondation Claude Monet et du village de Giverny. Ainsi\, la collection du musée des impressionnismes rassemble actuellement 211 œuvres\, sans compter d’importantes archives. \nUne politique d’acquisition très active\nSur ses fonds propres\, le musée a également acquis une sélection d’œuvres : un dessin de Pierre Bonnard\, Claude Monet et Marthe Bonnard dans la salle à manger de Giverny (vers 1920)\, une peinture de Maurice Denis\, Reflet de soleil sur la rivière (vers 1932)\, 32 œuvres de Hiramatsu Reiji ainsi que des photographies d’Olivier Mériel et de Bernard Plossu. En 2019\, une peinture d’Édouard Dantan\, Plate à Villerville\, marée basse (1881)\, a été achetée auprès d’une galerie parisienne\, renforçant le lien entre la Normandie impressionniste et le musée. La dernière acquisition du musée\, en mars 2020\, une peinture d’Eugène Boudin\, Deauville\, le bassin\, conforte les liens tissés entre Monet et celui à qui il doit ses débuts de peintre de plein air. \nDes campagnes de mécénat florissantes\nEn 2016\, le musée a lancé sa première campagne de mécénat participatif. Grâce à de très nombreux donateurs\, le musée a pu acquérir un important ensemble de panneaux décoratifs de Gustave Caillebotte\, Parterre de marguerites (vers 1893). Fort de ce succès\, le musée a de nouveau sollicité l’aide de son public en 2019. Cette nouvelle campagne a mobilisé 331 personnes et a permis d’acquérir une œuvre importante de Pierre Bonnard\, La Seine à Vernon (1915)\, et de la faire revenir à Giverny\, à 4 Km à peine de son lieu de création\, le jardin de l’artiste. \nAu travers de 80 oeuvres\, le musée des impressionnismes Giverny fait ainsi découvrir à ses visiteurs la diversité d’une collection qui n’a cessé de s’agrandir depuis 11 ans\, notamment grâce à la générosité de son public et de ses mécènes. Elle est destinée à s’enrichir continuellement au fil des années. \nL’exposition s’inscrit dans le cadre de Normandie Impressionniste 2020.
URL:https://actu.art/event/reflets-dune-collection/
LOCATION:Musée des Impressionnismes – Giverny\, 99\, rue Claude-Monet\, Giverny\, Eure\, 27620\, France
CATEGORIES:Expositions,Notre Sélection
ATTACH;FMTTYPE=image/jpeg:https://actu.art/wp-content/uploads/2020/06/Reflets-dune-collection.jpg
GEO:49.0761926;1.5314935
X-APPLE-STRUCTURED-LOCATION;VALUE=URI;X-ADDRESS=Musée des Impressionnismes – Giverny 99 rue Claude-Monet Giverny Eure 27620 France;X-APPLE-RADIUS=500;X-TITLE=99\, rue Claude-Monet:geo:1.5314935,49.0761926
END:VEVENT
END:VCALENDAR