BEGIN:VCALENDAR
VERSION:2.0
PRODID:-//Actu.Art - ECPv6.15.13//NONSGML v1.0//EN
CALSCALE:GREGORIAN
METHOD:PUBLISH
X-WR-CALNAME:Actu.Art
X-ORIGINAL-URL:https://actu.art
X-WR-CALDESC:Évènements pour Actu.Art
BEGIN:VTIMEZONE
TZID:Europe/Paris
BEGIN:DAYLIGHT
TZOFFSETFROM:+0100
TZOFFSETTO:+0200
TZNAME:CEST
DTSTART:20190331T010000
END:DAYLIGHT
BEGIN:STANDARD
TZOFFSETFROM:+0200
TZOFFSETTO:+0100
TZNAME:CET
DTSTART:20191027T010000
END:STANDARD
BEGIN:DAYLIGHT
TZOFFSETFROM:+0100
TZOFFSETTO:+0200
TZNAME:CEST
DTSTART:20200329T010000
END:DAYLIGHT
BEGIN:STANDARD
TZOFFSETFROM:+0200
TZOFFSETTO:+0100
TZNAME:CET
DTSTART:20201025T010000
END:STANDARD
BEGIN:DAYLIGHT
TZOFFSETFROM:+0100
TZOFFSETTO:+0200
TZNAME:CEST
DTSTART:20210328T010000
END:DAYLIGHT
BEGIN:STANDARD
TZOFFSETFROM:+0200
TZOFFSETTO:+0100
TZNAME:CET
DTSTART:20211031T010000
END:STANDARD
END:VTIMEZONE
BEGIN:VEVENT
DTSTART;VALUE=DATE:20200307
DTEND;VALUE=DATE:20200831
DTSTAMP:20260425T144421
CREATED:20200105T181629Z
LAST-MODIFIED:20201112T161747Z
UID:18126-1583539200-1598831999@actu.art
SUMMARY:Raphaël à Chantilly
DESCRIPTION:À l’occasion du 500e anniversaire de la mort de Raphaël (1483-1520)\, le Domaine de Chantilly rend hommage à cet immense maître de la Renaissance. \n\n\nVisite virtuelle\n\n\n\n\n 
URL:https://actu.art/event/raphael-a-chantilly/
LOCATION:Domaine de Chantilly – Musée Condé – Château\, château\, Chantilly\, Oise\, 60500\, France
CATEGORIES:Expositions Virtuelles,Notre Sélection
ATTACH;FMTTYPE=image/jpeg:https://actu.art/wp-content/uploads/2020/01/Raphael-à-Chantilly.jpg
GEO:49.1938467;2.4852034
X-APPLE-STRUCTURED-LOCATION;VALUE=URI;X-ADDRESS=Domaine de Chantilly – Musée Condé – Château château Chantilly Oise 60500 France;X-APPLE-RADIUS=500;X-TITLE=château:geo:2.4852034,49.1938467
END:VEVENT
END:VCALENDAR