BEGIN:VCALENDAR
VERSION:2.0
PRODID:-//Actu.Art - ECPv6.15.13//NONSGML v1.0//EN
CALSCALE:GREGORIAN
METHOD:PUBLISH
X-WR-CALNAME:Actu.Art
X-ORIGINAL-URL:https://actu.art
X-WR-CALDESC:Évènements pour Actu.Art
BEGIN:VTIMEZONE
TZID:Europe/Paris
BEGIN:DAYLIGHT
TZOFFSETFROM:+0100
TZOFFSETTO:+0200
TZNAME:CEST
DTSTART:20240331T010000
END:DAYLIGHT
BEGIN:STANDARD
TZOFFSETFROM:+0200
TZOFFSETTO:+0100
TZNAME:CET
DTSTART:20241027T010000
END:STANDARD
BEGIN:DAYLIGHT
TZOFFSETFROM:+0100
TZOFFSETTO:+0200
TZNAME:CEST
DTSTART:20250330T010000
END:DAYLIGHT
BEGIN:STANDARD
TZOFFSETFROM:+0200
TZOFFSETTO:+0100
TZNAME:CET
DTSTART:20251026T010000
END:STANDARD
BEGIN:DAYLIGHT
TZOFFSETFROM:+0100
TZOFFSETTO:+0200
TZNAME:CEST
DTSTART:20260329T010000
END:DAYLIGHT
BEGIN:STANDARD
TZOFFSETFROM:+0200
TZOFFSETTO:+0100
TZNAME:CET
DTSTART:20261025T010000
END:STANDARD
END:VTIMEZONE
BEGIN:VEVENT
DTSTART;TZID=Europe/Paris:20250502T011500
DTEND;TZID=Europe/Paris:20250504T190000
DTSTAMP:20260420T233128
CREATED:20250506T221402Z
LAST-MODIFIED:20250506T221402Z
UID:117196-1746148500-1746385200@actu.art
SUMMARY:Printemps des Art La Tranche-sur-mer
DESCRIPTION:L’association Vent des arts organise depuis 11 ans Le salon d’art contemporain PRINTEMPS DES ARTS. Cette exposition accueille 22 artistes professionnels sélectionnés pour leur identité\, leur authenticité et leur filiation à l’art contemporain. Sont représentés des peintres\, plasticiens\, sculpteurs et photographes \nCette manifestation est un espace de rencontre et de partage entre un public d’amateurs d’art et des artistes représentatifs de la diversité créative actuelle et de sa modernité.
URL:https://actu.art/event/printemps-des-art-la-tranche-sur-mer/
LOCATION:Pavillon de l’Aunis\, Place du Capitaine Bigot\, La Tranche-sur-Mer\, Vendée\, 85360
CATEGORIES:Expositions
ATTACH;FMTTYPE=image/jpeg:https://actu.art/wp-content/uploads/2025/05/Printemps_des_Art_La_Tranche_sur_mer.jpg
END:VEVENT
END:VCALENDAR