BEGIN:VCALENDAR
VERSION:2.0
PRODID:-//Actu.Art - ECPv6.15.13//NONSGML v1.0//EN
CALSCALE:GREGORIAN
METHOD:PUBLISH
X-WR-CALNAME:Actu.Art
X-ORIGINAL-URL:https://actu.art
X-WR-CALDESC:Évènements pour Actu.Art
BEGIN:VTIMEZONE
TZID:Europe/Paris
BEGIN:DAYLIGHT
TZOFFSETFROM:+0100
TZOFFSETTO:+0200
TZNAME:CEST
DTSTART:20250330T010000
END:DAYLIGHT
BEGIN:STANDARD
TZOFFSETFROM:+0200
TZOFFSETTO:+0100
TZNAME:CET
DTSTART:20251026T010000
END:STANDARD
BEGIN:DAYLIGHT
TZOFFSETFROM:+0100
TZOFFSETTO:+0200
TZNAME:CEST
DTSTART:20260329T010000
END:DAYLIGHT
BEGIN:STANDARD
TZOFFSETFROM:+0200
TZOFFSETTO:+0100
TZNAME:CET
DTSTART:20261025T010000
END:STANDARD
BEGIN:DAYLIGHT
TZOFFSETFROM:+0100
TZOFFSETTO:+0200
TZNAME:CEST
DTSTART:20270328T010000
END:DAYLIGHT
BEGIN:STANDARD
TZOFFSETFROM:+0200
TZOFFSETTO:+0100
TZNAME:CET
DTSTART:20271031T010000
END:STANDARD
END:VTIMEZONE
BEGIN:VEVENT
DTSTART;TZID=Europe/Paris:20260318T140000
DTEND;TZID=Europe/Paris:20260318T170000
DTSTAMP:20260420T155839
CREATED:20260213T170035Z
LAST-MODIFIED:20260213T170035Z
UID:138337-1773842400-1773853200@actu.art
SUMMARY:PORTES OUVERTES
DESCRIPTION:Découvrez l’Atelier public d’Arts Plastiques d’Allonnes lors de notre journée portes ouvertes le 18 mars !
URL:https://actu.art/event/portes-ouvertes/
LOCATION:Maison des arts Paul Fort\, 18 Rue Georges Bizet\, Allonnes\, Sarthe\, 72700\, France
CATEGORIES:Ateliers d'Artistes
GEO:47.9700333;0.1641622
X-APPLE-STRUCTURED-LOCATION;VALUE=URI;X-ADDRESS=Maison des arts Paul Fort 18 Rue Georges Bizet Allonnes Sarthe 72700 France;X-APPLE-RADIUS=500;X-TITLE=18 Rue Georges Bizet:geo:0.1641622,47.9700333
END:VEVENT
END:VCALENDAR