BEGIN:VCALENDAR
VERSION:2.0
PRODID:-//Actu.Art - ECPv6.15.13//NONSGML v1.0//EN
CALSCALE:GREGORIAN
METHOD:PUBLISH
X-WR-CALNAME:Actu.Art
X-ORIGINAL-URL:https://actu.art
X-WR-CALDESC:Évènements pour Actu.Art
BEGIN:VTIMEZONE
TZID:Europe/Paris
BEGIN:DAYLIGHT
TZOFFSETFROM:+0100
TZOFFSETTO:+0200
TZNAME:CEST
DTSTART:20250330T010000
END:DAYLIGHT
BEGIN:STANDARD
TZOFFSETFROM:+0200
TZOFFSETTO:+0100
TZNAME:CET
DTSTART:20251026T010000
END:STANDARD
BEGIN:DAYLIGHT
TZOFFSETFROM:+0100
TZOFFSETTO:+0200
TZNAME:CEST
DTSTART:20260329T010000
END:DAYLIGHT
BEGIN:STANDARD
TZOFFSETFROM:+0200
TZOFFSETTO:+0100
TZNAME:CET
DTSTART:20261025T010000
END:STANDARD
BEGIN:DAYLIGHT
TZOFFSETFROM:+0100
TZOFFSETTO:+0200
TZNAME:CEST
DTSTART:20270328T010000
END:DAYLIGHT
BEGIN:STANDARD
TZOFFSETFROM:+0200
TZOFFSETTO:+0100
TZNAME:CET
DTSTART:20271031T010000
END:STANDARD
END:VTIMEZONE
BEGIN:VEVENT
DTSTART;VALUE=DATE:20260426
DTEND;VALUE=DATE:20260601
DTSTAMP:20260419T181016
CREATED:20260416T062445Z
LAST-MODIFIED:20260416T062445Z
UID:142973-1777161600-1780271999@actu.art
SUMMARY:Portes Ouvertes Fête de l’estampe 2026
DESCRIPTION:À l’occasion de la Fête de l’estampe\, l’atelier « Estampe de Chaville » propose :\nDécouverte de l’atelier et de la pratique de la gravure.\nAtelier d’initiation sur réservation.\nVente de gravures.
URL:https://actu.art/event/portes-ouvertes-fete-de-lestampe-2026/
LOCATION:Estampe de Chaville\, 1\, rue du Gros Chêne\, Chaville\, Hauts-de-Seine\, 92370
CATEGORIES:Expositions
ATTACH;FMTTYPE=image/jpeg:https://actu.art/wp-content/uploads/2026/04/Portes_Ouvertes_Fete_de_l_estampe_2026.jpg
END:VEVENT
END:VCALENDAR