BEGIN:VCALENDAR
VERSION:2.0
PRODID:-//Actu.Art - ECPv6.15.13//NONSGML v1.0//EN
CALSCALE:GREGORIAN
METHOD:PUBLISH
X-WR-CALNAME:Actu.Art
X-ORIGINAL-URL:https://actu.art
X-WR-CALDESC:Évènements pour Actu.Art
BEGIN:VTIMEZONE
TZID:Europe/Paris
BEGIN:DAYLIGHT
TZOFFSETFROM:+0100
TZOFFSETTO:+0200
TZNAME:CEST
DTSTART:20220327T010000
END:DAYLIGHT
BEGIN:STANDARD
TZOFFSETFROM:+0200
TZOFFSETTO:+0100
TZNAME:CET
DTSTART:20221030T010000
END:STANDARD
BEGIN:DAYLIGHT
TZOFFSETFROM:+0100
TZOFFSETTO:+0200
TZNAME:CEST
DTSTART:20230326T010000
END:DAYLIGHT
BEGIN:STANDARD
TZOFFSETFROM:+0200
TZOFFSETTO:+0100
TZNAME:CET
DTSTART:20231029T010000
END:STANDARD
BEGIN:DAYLIGHT
TZOFFSETFROM:+0100
TZOFFSETTO:+0200
TZNAME:CEST
DTSTART:20240331T010000
END:DAYLIGHT
BEGIN:STANDARD
TZOFFSETFROM:+0200
TZOFFSETTO:+0100
TZNAME:CET
DTSTART:20241027T010000
END:STANDARD
END:VTIMEZONE
BEGIN:VEVENT
DTSTART;TZID=Europe/Paris:20230511T110000
DTEND;TZID=Europe/Paris:20231231T190000
DTSTAMP:20260422T163353
CREATED:20231011T201715Z
LAST-MODIFIED:20231011T202606Z
UID:73183-1683802800-1704049200@actu.art
SUMMARY:Plantu - Reza\, regards croisés
DESCRIPTION:Fins observateurs des bouleversements de la planète et défenseurs de la liberté d’expression\, le dessinateur de presse Plantu et le photojournaliste Reza font dialoguer leurs pratiques et leurs visions du monde. Cette exposition présente la série d’œuvres communes réalisée en 2021 et publiée chez Gallimard. Que leurs regards se rejoignent\, se complètent ou s’opposent\, ils sont l’occasion de prendre conscience des bouleversements climatiques\, politiques\, économiques et sociaux de notre temps. \nPlantu et Reza font connaissance en avril 2011\, à l’occasion des Rencontres internationales du dessin de presse au Mémorial de Caen. Quelques années après\, naît la volonté de faire œuvre commune. Une collaboration fructueuse qui aboutit à l’ouvrage Plantu – Reza : regards croisés (Gallimard\, 2021) ainsi qu’à la présente exposition. Environnement\, conflits\, inégalités\, migrations\, liberté de la presse : explorez les thématiques chères aux deux artistes à travers une sélection de leurs créations\, mais aussi des Unes de journaux qui ont marqué l’actualité.
URL:https://actu.art/event/plantu-reza-regards-croises/
LOCATION:Musée de l’Homme\, 17 Place du Trocadéro\, Paris\, Paris\, 75016\, France
CATEGORIES:Notre Sélection
ATTACH;FMTTYPE=image/jpeg:https://actu.art/wp-content/uploads/2023/10/Plantu-Reza.jpg
GEO:48.8622808;2.2875596
X-APPLE-STRUCTURED-LOCATION;VALUE=URI;X-ADDRESS=Musée de l’Homme 17 Place du Trocadéro Paris Paris 75016 France;X-APPLE-RADIUS=500;X-TITLE=17 Place du Trocadéro:geo:2.2875596,48.8622808
END:VEVENT
END:VCALENDAR