BEGIN:VCALENDAR
VERSION:2.0
PRODID:-//Actu.Art - ECPv6.15.13//NONSGML v1.0//EN
CALSCALE:GREGORIAN
METHOD:PUBLISH
X-WR-CALNAME:Actu.Art
X-ORIGINAL-URL:https://actu.art
X-WR-CALDESC:Évènements pour Actu.Art
BEGIN:VTIMEZONE
TZID:Europe/Paris
BEGIN:DAYLIGHT
TZOFFSETFROM:+0100
TZOFFSETTO:+0200
TZNAME:CEST
DTSTART:20210328T010000
END:DAYLIGHT
BEGIN:STANDARD
TZOFFSETFROM:+0200
TZOFFSETTO:+0100
TZNAME:CET
DTSTART:20211031T010000
END:STANDARD
BEGIN:DAYLIGHT
TZOFFSETFROM:+0100
TZOFFSETTO:+0200
TZNAME:CEST
DTSTART:20220327T010000
END:DAYLIGHT
BEGIN:STANDARD
TZOFFSETFROM:+0200
TZOFFSETTO:+0100
TZNAME:CET
DTSTART:20221030T010000
END:STANDARD
BEGIN:DAYLIGHT
TZOFFSETFROM:+0100
TZOFFSETTO:+0200
TZNAME:CEST
DTSTART:20230326T010000
END:DAYLIGHT
BEGIN:STANDARD
TZOFFSETFROM:+0200
TZOFFSETTO:+0100
TZNAME:CET
DTSTART:20231029T010000
END:STANDARD
END:VTIMEZONE
BEGIN:VEVENT
DTSTART;TZID=Europe/Paris:20220302T103000
DTEND;TZID=Europe/Paris:20220710T190000
DTSTAMP:20260424T090129
CREATED:20211218T192640Z
LAST-MODIFIED:20220318T214411Z
UID:40626-1646217000-1657479600@actu.art
SUMMARY:Pionnières
DESCRIPTION:Les artistes femmes de la première moitié du XXe siècle ont occupé un rôle primordial dans le développement des grands mouvements artistiques de la modernité\, sans pour autant que cela soit reconnu. Le parcours d’exposition veut les réinscrire dans cette histoire de l’art en transformation : du fauvisme à l’abstraction\, en passant par le cubisme ; mais aussi dans le monde de l’architecture\, de la danse\, du design\, de la littérature\, de la mode et dans le domaine scientifique. Une cinquantaine d’artistes et leurs œuvres sont à découvrir.
URL:https://actu.art/event/pionnieres/
LOCATION:Musée du Luxembourg\, 19 Rue de Vaugirard\, Paris\, Paris\, 75006\, France
CATEGORIES:Notre Sélection
ATTACH;FMTTYPE=image/jpeg:https://actu.art/wp-content/uploads/2021/12/Pionnieres-Musee-du-Luxembourg.jpg
GEO:48.848440245683;2.3340529203415
X-APPLE-STRUCTURED-LOCATION;VALUE=URI;X-ADDRESS=Musée du Luxembourg 19 Rue de Vaugirard Paris Paris 75006 France;X-APPLE-RADIUS=500;X-TITLE=19 Rue de Vaugirard:geo:2.3340529203415,48.848440245683
END:VEVENT
END:VCALENDAR