BEGIN:VCALENDAR
VERSION:2.0
PRODID:-//Actu.Art - ECPv6.15.13//NONSGML v1.0//EN
CALSCALE:GREGORIAN
METHOD:PUBLISH
X-WR-CALNAME:Actu.Art
X-ORIGINAL-URL:https://actu.art
X-WR-CALDESC:Évènements pour Actu.Art
BEGIN:VTIMEZONE
TZID:Europe/Paris
BEGIN:DAYLIGHT
TZOFFSETFROM:+0100
TZOFFSETTO:+0200
TZNAME:CEST
DTSTART:20160327T010000
END:DAYLIGHT
BEGIN:STANDARD
TZOFFSETFROM:+0200
TZOFFSETTO:+0100
TZNAME:CET
DTSTART:20161030T010000
END:STANDARD
BEGIN:DAYLIGHT
TZOFFSETFROM:+0100
TZOFFSETTO:+0200
TZNAME:CEST
DTSTART:20170326T010000
END:DAYLIGHT
BEGIN:STANDARD
TZOFFSETFROM:+0200
TZOFFSETTO:+0100
TZNAME:CET
DTSTART:20171029T010000
END:STANDARD
BEGIN:DAYLIGHT
TZOFFSETFROM:+0100
TZOFFSETTO:+0200
TZNAME:CEST
DTSTART:20180325T010000
END:DAYLIGHT
BEGIN:STANDARD
TZOFFSETFROM:+0200
TZOFFSETTO:+0100
TZNAME:CET
DTSTART:20181028T010000
END:STANDARD
END:VTIMEZONE
BEGIN:VEVENT
DTSTART;TZID=Europe/Paris:20170328T110000
DTEND;TZID=Europe/Paris:20170723T190000
DTSTAMP:20260424T043512
CREATED:20170616T210818Z
LAST-MODIFIED:20210210T190458Z
UID:1740-1490698800-1500836400@actu.art
SUMMARY:Picasso primitif
DESCRIPTION:À PROPOS DE L’EXPOSITION \n« L’art nègre ? Connais pas. » C’est sur le ton de la provocation que le peintre\, sculpteur et dessinateur andalou s’efforcera de nier sa relation avec l’art extra-européen. Pourtant\, et comme le montre sa collection personnelle\, les arts d’Afrique\, d’Océanie\, des Amériques et d’Asie n’auront cessé de l’accompagner\, notamment dans ses différents ateliers. En témoignent les documents\, lettres\, objets et photographies réunis dans la première partie de l’exposition\, traçant selon un parcours chronologique\, les intérêts et curiosités de l’artiste vis-à-vis de la création non-occidentale. \nDans une seconde partie plus conceptuelle\, Picasso Primitif propose une mise en regard des oeuvres de l’Andalou avec celles des artistes non-occidentaux\, en s’appuyant davantage sur une anthropologie de l’art que sur le constat de relations esthétiques. Le face-à-face qui en résulte dévoile les questionnements similaires auxquels les artistes ont dû répondre (les problématiques de la nudité\, de la sexualité\, des pulsions ou de la perte) par des solutions plastiques parallèles (la défiguration ou la déstructuration des corps par exemple). Le primitif ne s’entend alors plus comme un stade de non-développement\, mais comme l’accès aux couches les plus profondes\, intimes et fondatrices de l’humain. \nL’Exposition est organisée par le musée du quai Branly – Jacques Chirac\, en collaboration avec le Musée national Picasso-Paris.
URL:https://actu.art/event/picasso-primitif/
LOCATION:Musée Quai Branly-Jacques Chirac\, 37 Quai Branly\, Paris\, Paris\, 75007\, France
CATEGORIES:Notre Sélection
ATTACH;FMTTYPE=image/jpeg:https://actu.art/wp-content/uploads/2017/06/picasso-primitif-1.jpg
GEO:48.8608889;2.297894
X-APPLE-STRUCTURED-LOCATION;VALUE=URI;X-ADDRESS=Musée Quai Branly-Jacques Chirac 37 Quai Branly Paris Paris 75007 France;X-APPLE-RADIUS=500;X-TITLE=37 Quai Branly:geo:2.297894,48.8608889
END:VEVENT
END:VCALENDAR