BEGIN:VCALENDAR
VERSION:2.0
PRODID:-//Actu.Art - ECPv6.15.13//NONSGML v1.0//EN
CALSCALE:GREGORIAN
METHOD:PUBLISH
X-WR-CALNAME:Actu.Art
X-ORIGINAL-URL:https://actu.art
X-WR-CALDESC:Évènements pour Actu.Art
BEGIN:VTIMEZONE
TZID:Europe/Paris
BEGIN:DAYLIGHT
TZOFFSETFROM:+0100
TZOFFSETTO:+0200
TZNAME:CEST
DTSTART:20220327T010000
END:DAYLIGHT
BEGIN:STANDARD
TZOFFSETFROM:+0200
TZOFFSETTO:+0100
TZNAME:CET
DTSTART:20221030T010000
END:STANDARD
BEGIN:DAYLIGHT
TZOFFSETFROM:+0100
TZOFFSETTO:+0200
TZNAME:CEST
DTSTART:20230326T010000
END:DAYLIGHT
BEGIN:STANDARD
TZOFFSETFROM:+0200
TZOFFSETTO:+0100
TZNAME:CET
DTSTART:20231029T010000
END:STANDARD
BEGIN:DAYLIGHT
TZOFFSETFROM:+0100
TZOFFSETTO:+0200
TZNAME:CEST
DTSTART:20240331T010000
END:DAYLIGHT
BEGIN:STANDARD
TZOFFSETFROM:+0200
TZOFFSETTO:+0100
TZNAME:CET
DTSTART:20241027T010000
END:STANDARD
END:VTIMEZONE
BEGIN:VEVENT
DTSTART;TZID=Europe/Paris:20230208T110000
DTEND;TZID=Europe/Paris:20230612T190000
DTSTAMP:20260423T024523
CREATED:20230101T192326Z
LAST-MODIFIED:20230208T160121Z
UID:54056-1675854000-1686596400@actu.art
SUMMARY:Picasso et la Préhistoire
DESCRIPTION:Peintures\, sculptures\, dessins\, céramiques et galets gravés… Découvrez l’influence de la Préhistoire dans l’œuvre de Picasso ! \nL’exposition « Arts et Préhistoire » s’achève sur une superbe note de modernité. Poursuivons sur cette lancée : place aux créations de Pablo Picasso ! \nPeintre\, sculpteur\, dessinateur\, graveur\, Pablo Picasso a enfilé de nombreuses casquettes et a signé des œuvres d’une grande renommée\, comme Les demoiselles d’Avignon (1907) ou encore Guernica (1937). Mais saviez-vous qu’il était fasciné par la Préhistoire ? \nUne période foisonnante de découvertes et nouveautés\nL’artiste est né en 1881\, deux ans après la découverte des premières peintures préhistoriques en Espagne. Elles ont été trouvées dans la grotte d’Altamira. Mais ce n’est qu’en 1902 qu’elles ont été reconnues comme un art pariétal paléolithique original. \nCe début du XXe siècle est aussi marqué par un renouveau artistique avec des expérimentations cubistes et surréalistes\, dont Picasso est l’une des figures de proue. \nEn 1922\, la Vénus de Lespugue est découverte et\, quatre ans plus tard\, la revue Cahiers d’art est créée. Elle dévoile au public des objets d’art mobilier et de l’art pariétal. \nCette période effervescente se traduit dans certaines œuvres de l’artiste. \nEmpreinte (au sucre) de la main de Picasso.\nEmpreinte (au sucre) de la main de Picasso. Pablo Picasso\, 1936 © RMN – Grand Palais – Mathieu Rabeau © Succession Picasso 2023\nEn résonance avec les premiers artistes\nL’intérêt de Picasso pour la Préhistoire se ressent particulièrement dans ses créations de l’entre-deux-guerres. L’exposition vous présente une quarantaine de ses œuvres sublimes et étonnantes\, dont certaines en exclusivité ! \nAdmirez les sculptures\, les gravures\, les tableaux\, les dessins\, la façon dont Picasso prolonge les gestes du passé et transforme des objets naturels. Ce sont autant de résonances avec les créations des premiers artistes qui s’offrent à votre regard. \nVous pourrez aussi écouter le photographe Brassaï vous rapporter les propos de son acolyte sur la façon dont la nature a pu inspirer les premiers artistes\, et découvrir pour la toute première fois un ensemble de crânes animaliers et d’ossements conservés jusqu’ici dans les ateliers de l’artiste
URL:https://actu.art/event/picasso-et-la-prehistoire/
LOCATION:Musée de l’Homme\, 17 Place du Trocadéro\, Paris\, Paris\, 75016\, France
CATEGORIES:Notre Sélection
ATTACH;FMTTYPE=image/jpeg:https://actu.art/wp-content/uploads/2023/01/Picasso-et-la-Prehistoire-1.jpg
GEO:48.8622808;2.2875596
X-APPLE-STRUCTURED-LOCATION;VALUE=URI;X-ADDRESS=Musée de l’Homme 17 Place du Trocadéro Paris Paris 75016 France;X-APPLE-RADIUS=500;X-TITLE=17 Place du Trocadéro:geo:2.2875596,48.8622808
END:VEVENT
END:VCALENDAR