BEGIN:VCALENDAR
VERSION:2.0
PRODID:-//Actu.Art - ECPv6.15.13//NONSGML v1.0//EN
CALSCALE:GREGORIAN
METHOD:PUBLISH
X-WR-CALNAME:Actu.Art
X-ORIGINAL-URL:https://actu.art
X-WR-CALDESC:Évènements pour Actu.Art
BEGIN:VTIMEZONE
TZID:Europe/Paris
BEGIN:DAYLIGHT
TZOFFSETFROM:+0100
TZOFFSETTO:+0200
TZNAME:CEST
DTSTART:20180325T010000
END:DAYLIGHT
BEGIN:STANDARD
TZOFFSETFROM:+0200
TZOFFSETTO:+0100
TZNAME:CET
DTSTART:20181028T010000
END:STANDARD
BEGIN:DAYLIGHT
TZOFFSETFROM:+0100
TZOFFSETTO:+0200
TZNAME:CEST
DTSTART:20190331T010000
END:DAYLIGHT
BEGIN:STANDARD
TZOFFSETFROM:+0200
TZOFFSETTO:+0100
TZNAME:CET
DTSTART:20191027T010000
END:STANDARD
BEGIN:DAYLIGHT
TZOFFSETFROM:+0100
TZOFFSETTO:+0200
TZNAME:CEST
DTSTART:20200329T010000
END:DAYLIGHT
BEGIN:STANDARD
TZOFFSETFROM:+0200
TZOFFSETTO:+0100
TZNAME:CET
DTSTART:20201025T010000
END:STANDARD
END:VTIMEZONE
BEGIN:VEVENT
DTSTART;VALUE=DATE:20190405
DTEND;VALUE=DATE:20190729
DTSTAMP:20260424T215013
CREATED:20190525T213636Z
LAST-MODIFIED:20200320T224200Z
UID:8195-1554422400-1564358340@actu.art
SUMMARY:Picasso et la guerre
DESCRIPTION:Les conflits armés ont ponctué l’existence de celui qui\, Espagnol résidant en France de 1901 à son décès en 1973\, n’a paradoxalement jamais participé activement à une guerre. Libéré de l’obligation de service militaire et jamais engagé en tant que soldat dans un conflit\, l’artiste a vécu les guerres du XXe siècle en tant que civil. \nPicasso a sans cesse affirmé que la création était son « journal »\, un journal personnel et secret qui relève de l’intimité. Au cours de ce XXe siècle marqué par les deux conflits mondiaux et le totalitarisme\, il y aborde le tragique contemporain et la guerre. Si les motifs guerriers sont présents dans les œuvres de jeunesse de Picasso\, la Première Guerre mondiale\, qui débute alors qu’il est âgé de 33 ans\, est très peu présente dans son œuvre\, même si elle touche ses plus proches amis comme Apollinaire\, Cocteau ou Braque partis au front. \nLa guerre d’Espagne (1936-1939) marque particulièrement l’artiste et la toile monumentale Guernica\, peinte à la suite du bombardement de la ville\, constitue une œuvre emblématique. Pendant la Seconde Guerre mondiale\, replié dans une sorte d’« exil intérieur » dans son atelier-refuge\, rue des Grands-Augustins à Paris\, Picasso apporte son aide à ses relations. Célébré dès la Libération comme artiste résistant et militant\, ses prises de position politiques lui confèrent un rôle inédit dans l’Histoire en cours. Picasso affirme alors un pacifisme qui le situe en accord avec les positions et les luttes des partis communistes occidentaux. C’est dans ce contexte que le symbole de la colombe connait une diffusion planétaire. \nL’exposition suit à la fois une progression chronologique et chrono-thématique. Les œuvres de Picasso et ses archives personnelles\, dans toute leur diversité\, dialoguent avec un ensemble de pièces contextuelles et de documents (articles de presse\, photographies\, objets) évoquant la réalité et les modes de diffusion des conflits contemporains de sa production. \nElle explore les différentes manières dont la guerre nourrit et influence l’œuvre de Picasso\, tout au long de son parcours artistique. Repère connu de tous dans la production de l’artiste\, Guernica ouvre le parcours\, à travers une reproduction à l’échelle 1 de l’œuvre et en constitue le point de bascule\, puisqu’elle marque le début de l’engagement public de l’artiste.
URL:https://actu.art/event/picasso-et-la-guerre/
LOCATION:Musée de L’Armée\, Hôtel National des Invalides - 129\, rue de Grenelle\, Paris\, Paris\, 75700\, France
CATEGORIES:Notre Sélection
ATTACH;FMTTYPE=image/jpeg:https://actu.art/wp-content/uploads/2019/05/Picasso-et-la-guerre.jpg
GEO:48.8557933;2.3125934
X-APPLE-STRUCTURED-LOCATION;VALUE=URI;X-ADDRESS=Musée de L’Armée Hôtel National des Invalides - 129 rue de Grenelle Paris Paris 75700 France;X-APPLE-RADIUS=500;X-TITLE=Hôtel National des Invalides - 129\, rue de Grenelle:geo:2.3125934,48.8557933
END:VEVENT
END:VCALENDAR