BEGIN:VCALENDAR
VERSION:2.0
PRODID:-//Actu.Art - ECPv6.15.13//NONSGML v1.0//EN
CALSCALE:GREGORIAN
METHOD:PUBLISH
X-WR-CALNAME:Actu.Art
X-ORIGINAL-URL:https://actu.art
X-WR-CALDESC:Évènements pour Actu.Art
BEGIN:VTIMEZONE
TZID:Europe/Paris
BEGIN:DAYLIGHT
TZOFFSETFROM:+0100
TZOFFSETTO:+0200
TZNAME:CEST
DTSTART:20250330T010000
END:DAYLIGHT
BEGIN:STANDARD
TZOFFSETFROM:+0200
TZOFFSETTO:+0100
TZNAME:CET
DTSTART:20251026T010000
END:STANDARD
BEGIN:DAYLIGHT
TZOFFSETFROM:+0100
TZOFFSETTO:+0200
TZNAME:CEST
DTSTART:20260329T010000
END:DAYLIGHT
BEGIN:STANDARD
TZOFFSETFROM:+0200
TZOFFSETTO:+0100
TZNAME:CET
DTSTART:20261025T010000
END:STANDARD
BEGIN:DAYLIGHT
TZOFFSETFROM:+0100
TZOFFSETTO:+0200
TZNAME:CEST
DTSTART:20270328T010000
END:DAYLIGHT
BEGIN:STANDARD
TZOFFSETFROM:+0200
TZOFFSETTO:+0100
TZNAME:CET
DTSTART:20271031T010000
END:STANDARD
END:VTIMEZONE
BEGIN:VEVENT
DTSTART;VALUE=DATE:20260512
DTEND;VALUE=DATE:20260524
DTSTAMP:20260420T062154
CREATED:20260416T062455Z
LAST-MODIFIED:20260416T062455Z
UID:143196-1778544000-1779580799@actu.art
SUMMARY:Peintures – Jean-Yves Guionet
DESCRIPTION:À la frontière de l’expressionnisme et de l’abstraction\, Jean-Yves Guionet est le créateur du « sensualisme »\,
URL:https://actu.art/event/peintures-jean-yves-guionet/
LOCATION:Galerie de Pontaillac\, 12 avenue Émilie\, Royan\, Charente-Maritime\, 17200\, France
CATEGORIES:Expositions Galeries
ATTACH;FMTTYPE=image/jpeg:https://actu.art/wp-content/uploads/2026/04/Peintures_Jean_Yves_Guionet.jpg
GEO:45.6272355;-1.0505321
X-APPLE-STRUCTURED-LOCATION;VALUE=URI;X-ADDRESS=Galerie de Pontaillac 12 avenue Émilie Royan Charente-Maritime 17200 France;X-APPLE-RADIUS=500;X-TITLE=12 avenue Émilie:geo:-1.0505321,45.6272355
END:VEVENT
END:VCALENDAR