BEGIN:VCALENDAR
VERSION:2.0
PRODID:-//Actu.Art - ECPv6.15.13//NONSGML v1.0//EN
CALSCALE:GREGORIAN
METHOD:PUBLISH
X-WR-CALNAME:Actu.Art
X-ORIGINAL-URL:https://actu.art
X-WR-CALDESC:Évènements pour Actu.Art
BEGIN:VTIMEZONE
TZID:Europe/Paris
BEGIN:DAYLIGHT
TZOFFSETFROM:+0100
TZOFFSETTO:+0200
TZNAME:CEST
DTSTART:20240331T010000
END:DAYLIGHT
BEGIN:STANDARD
TZOFFSETFROM:+0200
TZOFFSETTO:+0100
TZNAME:CET
DTSTART:20241027T010000
END:STANDARD
BEGIN:DAYLIGHT
TZOFFSETFROM:+0100
TZOFFSETTO:+0200
TZNAME:CEST
DTSTART:20250330T010000
END:DAYLIGHT
BEGIN:STANDARD
TZOFFSETFROM:+0200
TZOFFSETTO:+0100
TZNAME:CET
DTSTART:20251026T010000
END:STANDARD
BEGIN:DAYLIGHT
TZOFFSETFROM:+0100
TZOFFSETTO:+0200
TZNAME:CEST
DTSTART:20260329T010000
END:DAYLIGHT
BEGIN:STANDARD
TZOFFSETFROM:+0200
TZOFFSETTO:+0100
TZNAME:CET
DTSTART:20261025T010000
END:STANDARD
END:VTIMEZONE
BEGIN:VEVENT
DTSTART;TZID=Europe/Paris:20250905T000000
DTEND;TZID=Europe/Paris:20250911T183000
DTSTAMP:20260423T232938
CREATED:20250714T222244Z
LAST-MODIFIED:20250714T222244Z
UID:124064-1757030400-1757615400@actu.art
SUMMARY:Peintures et Sculptures en regard\, Dominique MARTEL et Ruby DOMANGE
DESCRIPTION:Mise en regard de grandes toiles Dominique Martel avec les sculptures de Ruby Domande. Présentation également de carnets d’artistes et aquarelles/collages ( D.Martel )
URL:https://actu.art/event/peintures-et-sculptures-en-regard-dominique-martel-et-ruby-domange/
LOCATION:Galerie de la Prévôté\, Place des Martyrs de la Résistance\, Aix-en-Provence\, Bouches-du-Rhône\, 13090\, France
CATEGORIES:Expositions Galeries
ATTACH;FMTTYPE=image/jpeg:https://actu.art/wp-content/uploads/2025/07/Peintures_et_Sculptures_en_regard_Dominique_MARTEL_et_Ruby_DOMANGE.jpg
GEO:43.5312333;5.4472315
X-APPLE-STRUCTURED-LOCATION;VALUE=URI;X-ADDRESS=Galerie de la Prévôté Place des Martyrs de la Résistance Aix-en-Provence Bouches-du-Rhône 13090 France;X-APPLE-RADIUS=500;X-TITLE=Place des Martyrs de la Résistance:geo:5.4472315,43.5312333
END:VEVENT
END:VCALENDAR