BEGIN:VCALENDAR
VERSION:2.0
PRODID:-//Actu.Art - ECPv6.15.13//NONSGML v1.0//EN
CALSCALE:GREGORIAN
METHOD:PUBLISH
X-WR-CALNAME:Actu.Art
X-ORIGINAL-URL:https://actu.art
X-WR-CALDESC:Évènements pour Actu.Art
BEGIN:VTIMEZONE
TZID:Europe/Paris
BEGIN:DAYLIGHT
TZOFFSETFROM:+0100
TZOFFSETTO:+0200
TZNAME:CEST
DTSTART:20190331T010000
END:DAYLIGHT
BEGIN:STANDARD
TZOFFSETFROM:+0200
TZOFFSETTO:+0100
TZNAME:CET
DTSTART:20191027T010000
END:STANDARD
BEGIN:DAYLIGHT
TZOFFSETFROM:+0100
TZOFFSETTO:+0200
TZNAME:CEST
DTSTART:20200329T010000
END:DAYLIGHT
BEGIN:STANDARD
TZOFFSETFROM:+0200
TZOFFSETTO:+0100
TZNAME:CET
DTSTART:20201025T010000
END:STANDARD
BEGIN:DAYLIGHT
TZOFFSETFROM:+0100
TZOFFSETTO:+0200
TZNAME:CEST
DTSTART:20210328T010000
END:DAYLIGHT
BEGIN:STANDARD
TZOFFSETFROM:+0200
TZOFFSETTO:+0100
TZNAME:CET
DTSTART:20211031T010000
END:STANDARD
BEGIN:DAYLIGHT
TZOFFSETFROM:+0100
TZOFFSETTO:+0200
TZNAME:CEST
DTSTART:20220327T010000
END:DAYLIGHT
BEGIN:STANDARD
TZOFFSETFROM:+0200
TZOFFSETTO:+0100
TZNAME:CET
DTSTART:20221030T010000
END:STANDARD
END:VTIMEZONE
BEGIN:VEVENT
DTSTART;TZID=Europe/Paris:20201006T103000
DTEND;TZID=Europe/Paris:20210704T190000
DTSTAMP:20260425T205306
CREATED:20200430T150432Z
LAST-MODIFIED:20210306T200635Z
UID:20668-1601980200-1625425200@actu.art
SUMMARY:Peintres femmes\, 1780-1830. Naissance d’un combat
DESCRIPTION:Cette exposition regroupe près de 80 œuvres dans les salles du Musée du Luxembourg. Elle met en lumière ce moment de l’Histoire de France où les artistes femmes ont accédé à une visibilité inédite\, dans la continuité des travaux\, notamment au niveau du portrait\, d’Elisabeth Vigée-Lebrun (1755-1842)\, Marguerite Gérard (1761-1837)\, Marie-Guillemine Benoist (1768-1826) ou encore Constance Mayer (1775-1821). L’exposition dévoile aussi aux visiteurs les conditions de la pratique artistique pour les peintres femmes à cette époque.
URL:https://actu.art/event/peintres-femmes-1780-1830-naissance-dun-combat/
LOCATION:Musée du Luxembourg\, 19 Rue de Vaugirard\, Paris\, Paris\, 75006\, France
CATEGORIES:Notre Sélection
ATTACH;FMTTYPE=image/jpeg:https://actu.art/wp-content/uploads/2020/04/Peintres-Femmes.jpg
GEO:48.848440245683;2.3340529203415
X-APPLE-STRUCTURED-LOCATION;VALUE=URI;X-ADDRESS=Musée du Luxembourg 19 Rue de Vaugirard Paris Paris 75006 France;X-APPLE-RADIUS=500;X-TITLE=19 Rue de Vaugirard:geo:2.3340529203415,48.848440245683
END:VEVENT
END:VCALENDAR