BEGIN:VCALENDAR
VERSION:2.0
PRODID:-//Actu.Art - ECPv6.15.13//NONSGML v1.0//EN
CALSCALE:GREGORIAN
METHOD:PUBLISH
X-WR-CALNAME:Actu.Art
X-ORIGINAL-URL:https://actu.art
X-WR-CALDESC:Évènements pour Actu.Art
BEGIN:VTIMEZONE
TZID:Europe/Paris
BEGIN:DAYLIGHT
TZOFFSETFROM:+0100
TZOFFSETTO:+0200
TZNAME:CEST
DTSTART:20250330T010000
END:DAYLIGHT
BEGIN:STANDARD
TZOFFSETFROM:+0200
TZOFFSETTO:+0100
TZNAME:CET
DTSTART:20251026T010000
END:STANDARD
BEGIN:DAYLIGHT
TZOFFSETFROM:+0100
TZOFFSETTO:+0200
TZNAME:CEST
DTSTART:20260329T010000
END:DAYLIGHT
BEGIN:STANDARD
TZOFFSETFROM:+0200
TZOFFSETTO:+0100
TZNAME:CET
DTSTART:20261025T010000
END:STANDARD
BEGIN:DAYLIGHT
TZOFFSETFROM:+0100
TZOFFSETTO:+0200
TZNAME:CEST
DTSTART:20270328T010000
END:DAYLIGHT
BEGIN:STANDARD
TZOFFSETFROM:+0200
TZOFFSETTO:+0100
TZNAME:CET
DTSTART:20271031T010000
END:STANDARD
END:VTIMEZONE
BEGIN:VEVENT
DTSTART;TZID=Europe/Paris:20260620T090000
DTEND;TZID=Europe/Paris:20260620T180000
DTSTAMP:20260422T155636
CREATED:20260410T165004Z
LAST-MODIFIED:20260410T165336Z
UID:143073-1781946000-1781978400@actu.art
SUMMARY:Peintres dans la rue - Lavit de Lomagne
DESCRIPTION:Premier Prix : 300€ \nRéservation au 06.37.70.31.19
URL:https://actu.art/event/peintres-dans-la-rue-lavit-de-lomagne/
LOCATION:Salle de la Mairie de Lavit\, Lavit\, Tarn-et-Garonne\, 82120\, France
CATEGORIES:Concours Dessin/Peinture/Sculpture
ATTACH;FMTTYPE=image/jpeg:https://actu.art/wp-content/uploads/2026/04/Concours-Peintres-dans-la-Rue-Lavit-de-Lomagne.jpg
GEO:43.957032;0.920141
END:VEVENT
END:VCALENDAR