BEGIN:VCALENDAR
VERSION:2.0
PRODID:-//Actu.Art - ECPv6.15.13//NONSGML v1.0//EN
CALSCALE:GREGORIAN
METHOD:PUBLISH
X-WR-CALNAME:Actu.Art
X-ORIGINAL-URL:https://actu.art
X-WR-CALDESC:Évènements pour Actu.Art
BEGIN:VTIMEZONE
TZID:Europe/Paris
BEGIN:DAYLIGHT
TZOFFSETFROM:+0100
TZOFFSETTO:+0200
TZNAME:CEST
DTSTART:20210328T010000
END:DAYLIGHT
BEGIN:STANDARD
TZOFFSETFROM:+0200
TZOFFSETTO:+0100
TZNAME:CET
DTSTART:20211031T010000
END:STANDARD
BEGIN:DAYLIGHT
TZOFFSETFROM:+0100
TZOFFSETTO:+0200
TZNAME:CEST
DTSTART:20220327T010000
END:DAYLIGHT
BEGIN:STANDARD
TZOFFSETFROM:+0200
TZOFFSETTO:+0100
TZNAME:CET
DTSTART:20221030T010000
END:STANDARD
BEGIN:DAYLIGHT
TZOFFSETFROM:+0100
TZOFFSETTO:+0200
TZNAME:CEST
DTSTART:20230326T010000
END:DAYLIGHT
BEGIN:STANDARD
TZOFFSETFROM:+0200
TZOFFSETTO:+0100
TZNAME:CET
DTSTART:20231029T010000
END:STANDARD
END:VTIMEZONE
BEGIN:VEVENT
DTSTART;TZID=Europe/Paris:20220615T100000
DTEND;TZID=Europe/Paris:20220915T180000
DTSTAMP:20260424T084702
CREATED:20220803T123601Z
LAST-MODIFIED:20220813T164152Z
UID:49817-1655287200-1663264800@actu.art
SUMMARY:Patrick Rubinstein : Jeux d'optique
DESCRIPTION:Du 15 juin au 15 septembre\, Dalí Paris accueille une exposition consacrée à Patrick Rubinstein\, figure de l’art cinétique en France. L’œuvre de Rubenstein sera présentée en dialogue avec la collection permanente du Musée Dalí. \nLes œuvres de Rubinstein donnent une sensation de mouvement et son travail avec la lumière\, et plus particulièrement avec la feuille d’or\, renforce l’effet hypnotique qui rappelle les formes hallucinatoires et les illusions visuelles qui composent l’imaginaire dalinien. \nOptical Games invite les visiteurs à une expérience visuelle unique mêlant l’univers de Dalí et celui de Rubinstein. Attendez-vous à être hypnotisés par chaque forme de distorsion\, chaque couleur et chaque vibration. \nLes deux artistes laissent libre cours à l’imagination du spectateur\, ouvrant leurs œuvres à une interprétation consciente et inconsciente.
URL:https://actu.art/event/patrick-rubinstein-jeux-doptique/
LOCATION:Dali Paris\, 11 Rue Poulbot\, Paris 18\, Paris\, 75018\, France
CATEGORIES:Notre Sélection
ATTACH;FMTTYPE=image/jpeg:https://actu.art/wp-content/uploads/2022/08/Dali-Rubinstein.jpg
GEO:48.8865605;2.3397859
X-APPLE-STRUCTURED-LOCATION;VALUE=URI;X-ADDRESS=Dali Paris 11 Rue Poulbot Paris 18 Paris 75018 France;X-APPLE-RADIUS=500;X-TITLE=11 Rue Poulbot:geo:2.3397859,48.8865605
END:VEVENT
END:VCALENDAR