BEGIN:VCALENDAR
VERSION:2.0
PRODID:-//Actu.Art - ECPv6.15.13//NONSGML v1.0//EN
CALSCALE:GREGORIAN
METHOD:PUBLISH
X-WR-CALNAME:Actu.Art
X-ORIGINAL-URL:https://actu.art
X-WR-CALDESC:Évènements pour Actu.Art
BEGIN:VTIMEZONE
TZID:Europe/Paris
BEGIN:DAYLIGHT
TZOFFSETFROM:+0100
TZOFFSETTO:+0200
TZNAME:CEST
DTSTART:20240331T010000
END:DAYLIGHT
BEGIN:STANDARD
TZOFFSETFROM:+0200
TZOFFSETTO:+0100
TZNAME:CET
DTSTART:20241027T010000
END:STANDARD
BEGIN:DAYLIGHT
TZOFFSETFROM:+0100
TZOFFSETTO:+0200
TZNAME:CEST
DTSTART:20250330T010000
END:DAYLIGHT
BEGIN:STANDARD
TZOFFSETFROM:+0200
TZOFFSETTO:+0100
TZNAME:CET
DTSTART:20251026T010000
END:STANDARD
BEGIN:DAYLIGHT
TZOFFSETFROM:+0100
TZOFFSETTO:+0200
TZNAME:CEST
DTSTART:20260329T010000
END:DAYLIGHT
BEGIN:STANDARD
TZOFFSETFROM:+0200
TZOFFSETTO:+0100
TZNAME:CET
DTSTART:20261025T010000
END:STANDARD
END:VTIMEZONE
BEGIN:VEVENT
DTSTART;VALUE=DATE:20250428
DTEND;VALUE=DATE:20250525
DTSTAMP:20260426T000246
CREATED:20250501T195331Z
LAST-MODIFIED:20250501T195331Z
UID:115922-1745798400-1748131199@actu.art
SUMMARY:Passages et paysages : Jean Anguera
DESCRIPTION:Jean Anguera est né à Paris en 1953. Il s’oriente d’abord vers des études d’architecture qu’il poursuit jusqu’en 1978. Entre temps\, il a fréquenté l’atelier du sculpteur César à l’ENSBA. Il est marqué particulièrement par l’enseignement de Jacques Bosson\, architecte et scénographe\, et les cours de Jacques Lecoq et Gérard Koch. Lauréat en 2012 du Prix Simone et Cino del DUCA de Sculpture pour l’ensemble de son œuvre. Il est élu le 27 février 2013 membre de l’Académie des Beaux-Arts au fauteuil du sculpteur François Stahly.
URL:https://actu.art/event/passages-et-paysages-jean-anguera/
LOCATION:Galerie La Capitale\, 18 rue du Roule\, Paris 1er\, Paris\, 75001\, France
CATEGORIES:Expositions Galeries
ATTACH;FMTTYPE=image/jpeg:https://actu.art/wp-content/uploads/2025/04/Passages_et_paysages_Jean_Anguera.jpg
GEO:48.8608913;2.3439532
X-APPLE-STRUCTURED-LOCATION;VALUE=URI;X-ADDRESS=Galerie La Capitale 18 rue du Roule Paris 1er Paris 75001 France;X-APPLE-RADIUS=500;X-TITLE=18 rue du Roule:geo:2.3439532,48.8608913
END:VEVENT
END:VCALENDAR